BEGIN:VCALENDAR
VERSION:2.0
PRODID:-// - ECPv6.9.0//NONSGML v1.0//EN
CALSCALE:GREGORIAN
METHOD:PUBLISH
X-ORIGINAL-URL:https://carajas.org
X-WR-CALDESC:Eventos para 
REFRESH-INTERVAL;VALUE=DURATION:PT1H
X-Robots-Tag:noindex
X-PUBLISHED-TTL:PT1H
BEGIN:VTIMEZONE
TZID:UTC
BEGIN:STANDARD
TZOFFSETFROM:+0000
TZOFFSETTO:+0000
TZNAME:UTC
DTSTART:20180101T000000
END:STANDARD
END:VTIMEZONE
BEGIN:VEVENT
DTSTART;VALUE=DATE:20180805
DTEND;VALUE=DATE:20180806
DTSTAMP:20260424T121731
CREATED:20180720T214844Z
LAST-MODIFIED:20180720T214844Z
UID:14048-1533427200-1533513599@carajas.org
SUMMARY:Chefia: Indabinha
DESCRIPTION:
URL:https://carajas.org/evento/chefia-indabinha-2/
ATTACH;FMTTYPE=image/png:https://carajas.org/wp-content/uploads/2015/09/eventos-default.png
END:VEVENT
BEGIN:VEVENT
DTSTART;VALUE=DATE:20180728
DTEND;VALUE=DATE:20180729
DTSTAMP:20260424T121731
CREATED:20180319T024645Z
LAST-MODIFIED:20180718T233335Z
UID:13484-1532736000-1532822399@carajas.org
SUMMARY:Rovers: Doação de Sangue
DESCRIPTION:
URL:https://carajas.org/evento/rovers-doacao-de-sangue-3/
ATTACH;FMTTYPE=image/jpeg:https://carajas.org/wp-content/uploads/2018/03/evento_doar-sangue.jpg
END:VEVENT
BEGIN:VEVENT
DTSTART;VALUE=DATE:20180727
DTEND;VALUE=DATE:20180801
DTSTAMP:20260424T121731
CREATED:20180319T024550Z
LAST-MODIFIED:20180319T030539Z
UID:13483-1532649600-1533081599@carajas.org
SUMMARY:3º Moot Interamericano Escoteiro no Peru
DESCRIPTION:
URL:https://carajas.org/evento/3o-moot-interamericano-escoteiro-no-peru/
ATTACH;FMTTYPE=image/png:https://carajas.org/wp-content/uploads/2018/03/evento_moot2018peru.png
END:VEVENT
BEGIN:VEVENT
DTSTART;VALUE=DATE:20180724
DTEND;VALUE=DATE:20180728
DTSTAMP:20260424T121731
CREATED:20180319T024455Z
LAST-MODIFIED:20180319T024455Z
UID:13482-1532390400-1532735999@carajas.org
SUMMARY:SPYC: Curso de Férias (Sailaway)
DESCRIPTION:
URL:https://carajas.org/evento/spyc-curso-de-ferias-sailaway/
ATTACH;FMTTYPE=image/png:https://carajas.org/wp-content/uploads/2018/03/evento_spyc.png
END:VEVENT
BEGIN:VEVENT
DTSTART;VALUE=DATE:20180715
DTEND;VALUE=DATE:20180722
DTSTAMP:20260424T121731
CREATED:20180319T024358Z
LAST-MODIFIED:20180319T030748Z
UID:13480-1531612800-1532217599@carajas.org
SUMMARY:Jamboree Nacional em Barretos
DESCRIPTION:
URL:https://carajas.org/evento/jamboree-nacional-em-barretos/
ATTACH;FMTTYPE=image/jpeg:https://carajas.org/wp-content/uploads/2018/03/evento_jamboreenacionalbarretos.jpg
END:VEVENT
BEGIN:VEVENT
DTSTART;VALUE=DATE:20180630
DTEND;VALUE=DATE:20180701
DTSTAMP:20260424T121731
CREATED:20180319T000416Z
LAST-MODIFIED:20180319T000416Z
UID:13368-1530316800-1530403199@carajas.org
SUMMARY:Cubs Ganges: Última Reunião
DESCRIPTION:
URL:https://carajas.org/evento/cubs-ganges-ultima-reuniao/
ATTACH;FMTTYPE=image/png:https://carajas.org/wp-content/uploads/2015/09/eventos-default.png
END:VEVENT
BEGIN:VEVENT
DTSTART;VALUE=DATE:20180629
DTEND;VALUE=DATE:20180630
DTSTAMP:20260424T121731
CREATED:20180319T000313Z
LAST-MODIFIED:20180319T030933Z
UID:13367-1530230400-1530316799@carajas.org
SUMMARY:Dia do Pioneiro
DESCRIPTION:
URL:https://carajas.org/evento/dia-do-pioneiro/
ATTACH;FMTTYPE=image/jpeg:https://carajas.org/wp-content/uploads/2018/03/evento_pioneiro.jpg
END:VEVENT
BEGIN:VEVENT
DTSTART;VALUE=DATE:20180629
DTEND;VALUE=DATE:20180630
DTSTAMP:20260424T121731
CREATED:20180319T000110Z
LAST-MODIFIED:20180319T000110Z
UID:13366-1530230400-1530316799@carajas.org
SUMMARY:Cubs Tawi: Última Reunião
DESCRIPTION:
URL:https://carajas.org/evento/cubs-tawi-ultima-reuniao/
ATTACH;FMTTYPE=image/png:https://carajas.org/wp-content/uploads/2015/09/eventos-default.png
END:VEVENT
BEGIN:VEVENT
DTSTART;VALUE=DATE:20180626
DTEND;VALUE=DATE:20180627
DTSTAMP:20260424T121731
CREATED:20180319T000026Z
LAST-MODIFIED:20180319T000026Z
UID:13365-1529971200-1530057599@carajas.org
SUMMARY:Scoutas: Última Reunião
DESCRIPTION:
URL:https://carajas.org/evento/scoutas-ultima-reuniao/
ATTACH;FMTTYPE=image/png:https://carajas.org/wp-content/uploads/2015/09/eventos-default.png
END:VEVENT
BEGIN:VEVENT
DTSTART;VALUE=DATE:20180625
DTEND;VALUE=DATE:20180626
DTSTAMP:20260424T121731
CREATED:20180318T235937Z
LAST-MODIFIED:20180318T235937Z
UID:13364-1529884800-1529971199@carajas.org
SUMMARY:Scouts: Última Reunião
DESCRIPTION:
URL:https://carajas.org/evento/scouts-ultima-reuniao/
ATTACH;FMTTYPE=image/png:https://carajas.org/wp-content/uploads/2015/09/eventos-default.png
END:VEVENT
BEGIN:VEVENT
DTSTART;VALUE=DATE:20180621
DTEND;VALUE=DATE:20180622
DTSTAMP:20260424T121731
CREATED:20180318T235747Z
LAST-MODIFIED:20180319T031059Z
UID:13362-1529539200-1529625599@carajas.org
SUMMARY:Queen’s Birthday
DESCRIPTION:
URL:https://carajas.org/evento/queens-birthday-3/
ATTACH;FMTTYPE=image/png:https://carajas.org/wp-content/uploads/2018/03/evento_british-society.png
END:VEVENT
BEGIN:VEVENT
DTSTART;VALUE=DATE:20180618
DTEND;VALUE=DATE:20180619
DTSTAMP:20260424T121731
CREATED:20180318T235701Z
LAST-MODIFIED:20180319T031138Z
UID:13361-1529280000-1529366399@carajas.org
SUMMARY:Dia do Sênior
DESCRIPTION:
URL:https://carajas.org/evento/dia-do-senior/
ATTACH;FMTTYPE=image/jpeg:https://carajas.org/wp-content/uploads/2018/03/evento_senior.jpg
END:VEVENT
BEGIN:VEVENT
DTSTART;VALUE=DATE:20180614
DTEND;VALUE=DATE:20180615
DTSTAMP:20260424T121731
CREATED:20180318T235615Z
LAST-MODIFIED:20180319T031313Z
UID:13360-1528934400-1529020799@carajas.org
SUMMARY:Fundação do Escotismo no Brasil (1910)
DESCRIPTION:
URL:https://carajas.org/evento/fundacao-do-escotismo-no-brasil-1910/
ATTACH;FMTTYPE=image/png:https://carajas.org/wp-content/uploads/2018/03/evento_ueb.png
END:VEVENT
BEGIN:VEVENT
DTSTART;VALUE=DATE:20180609
DTEND;VALUE=DATE:20180610
DTSTAMP:20260424T121731
CREATED:20180318T235855Z
LAST-MODIFIED:20180601T011307Z
UID:13363-1528502400-1528588799@carajas.org
SUMMARY:SPYC: Festa Junina
DESCRIPTION:
URL:https://carajas.org/evento/spyc-festa-junina/
ATTACH;FMTTYPE=image/png:https://carajas.org/wp-content/uploads/2018/03/evento_spyc.png
END:VEVENT
BEGIN:VEVENT
DTSTART;VALUE=DATE:20180606
DTEND;VALUE=DATE:20180607
DTSTAMP:20260424T121731
CREATED:20180318T235430Z
LAST-MODIFIED:20180318T235430Z
UID:13358-1528243200-1528329599@carajas.org
SUMMARY:Chefia: Reunião
DESCRIPTION:
URL:https://carajas.org/evento/chefia-reuniao-9/
ATTACH;FMTTYPE=image/png:https://carajas.org/wp-content/uploads/2015/09/eventos-default.png
END:VEVENT
BEGIN:VEVENT
DTSTART;VALUE=DATE:20180531
DTEND;VALUE=DATE:20180604
DTSTAMP:20260424T121731
CREATED:20180318T235325Z
LAST-MODIFIED:20180318T235325Z
UID:13357-1527724800-1528070399@carajas.org
SUMMARY:Seniors: Camp
DESCRIPTION:
URL:https://carajas.org/evento/seniors-camp-5/
ATTACH;FMTTYPE=image/png:https://carajas.org/wp-content/uploads/2015/09/eventos-default.png
END:VEVENT
BEGIN:VEVENT
DTSTART;VALUE=DATE:20180531
DTEND;VALUE=DATE:20180604
DTSTAMP:20260424T121731
CREATED:20180318T235233Z
LAST-MODIFIED:20180318T235233Z
UID:13356-1527724800-1528070399@carajas.org
SUMMARY:Cubs Tawi e Ganges: Camp
DESCRIPTION:
URL:https://carajas.org/evento/cubs-tawi-e-ganges-camp/
ATTACH;FMTTYPE=image/png:https://carajas.org/wp-content/uploads/2015/09/eventos-default.png
END:VEVENT
BEGIN:VEVENT
DTSTART;VALUE=DATE:20180526
DTEND;VALUE=DATE:20180527
DTSTAMP:20260424T121731
CREATED:20180318T235129Z
LAST-MODIFIED:20180319T031451Z
UID:13355-1527292800-1527379199@carajas.org
SUMMARY:Bingo Carajás
DESCRIPTION:
URL:https://carajas.org/evento/bingo-carajas/
ATTACH;FMTTYPE=image/jpeg:https://carajas.org/wp-content/uploads/2018/03/evento_bingo.jpg
END:VEVENT
BEGIN:VEVENT
DTSTART;VALUE=DATE:20180520
DTEND;VALUE=DATE:20180521
DTSTAMP:20260424T121731
CREATED:20180318T235030Z
LAST-MODIFIED:20180318T235030Z
UID:13354-1526774400-1526860799@carajas.org
SUMMARY:Scoutas: Dinner Competition
DESCRIPTION:
URL:https://carajas.org/evento/scoutas-dinner-competition/
ATTACH;FMTTYPE=image/png:https://carajas.org/wp-content/uploads/2015/09/eventos-default.png
END:VEVENT
BEGIN:VEVENT
DTSTART;VALUE=DATE:20180509
DTEND;VALUE=DATE:20180510
DTSTAMP:20260424T121731
CREATED:20180318T234939Z
LAST-MODIFIED:20180318T234939Z
UID:13353-1525824000-1525910399@carajas.org
SUMMARY:Chefia: Reunião
DESCRIPTION:
URL:https://carajas.org/evento/chefia-reuniao-8/
ATTACH;FMTTYPE=image/png:https://carajas.org/wp-content/uploads/2015/09/eventos-default.png
END:VEVENT
BEGIN:VEVENT
DTSTART;VALUE=DATE:20180428
DTEND;VALUE=DATE:20180502
DTSTAMP:20260424T121731
CREATED:20180306T152826Z
LAST-MODIFIED:20180306T152826Z
UID:13328-1524873600-1525219199@carajas.org
SUMMARY:Congresso Nacional Escoteiro
DESCRIPTION:
URL:https://carajas.org/evento/congresso-nacional-escoteiro/
ATTACH;FMTTYPE=image/png:https://carajas.org/wp-content/uploads/2018/03/2108_congresso2018.png
END:VEVENT
BEGIN:VEVENT
DTSTART;VALUE=DATE:20180428
DTEND;VALUE=DATE:20180502
DTSTAMP:20260424T121731
CREATED:20180306T152628Z
LAST-MODIFIED:20180306T152628Z
UID:13327-1524873600-1525219199@carajas.org
SUMMARY:Scouts: Camp
DESCRIPTION:
URL:https://carajas.org/evento/scouts-camp-5/
ATTACH;FMTTYPE=image/png:https://carajas.org/wp-content/uploads/2015/09/eventos-default.png
END:VEVENT
BEGIN:VEVENT
DTSTART;VALUE=DATE:20180428
DTEND;VALUE=DATE:20180429
DTSTAMP:20260424T121731
CREATED:20180306T152513Z
LAST-MODIFIED:20180319T031552Z
UID:13326-1524873600-1524959999@carajas.org
SUMMARY:British Legion Churrasco (Cubs)
DESCRIPTION:
URL:https://carajas.org/evento/british-legion-churrasco-cubs/
ATTACH;FMTTYPE=image/jpeg:https://carajas.org/wp-content/uploads/2018/03/evento_british-legion.jpg
END:VEVENT
BEGIN:VEVENT
DTSTART;VALUE=DATE:20180423
DTEND;VALUE=DATE:20180424
DTSTAMP:20260424T121731
CREATED:20180306T152324Z
LAST-MODIFIED:20180306T152324Z
UID:13324-1524441600-1524527999@carajas.org
SUMMARY:Dia Mundial do Escoteiro
DESCRIPTION:
URL:https://carajas.org/evento/dia-mundial-do-escoteiro/
ATTACH;FMTTYPE=image/jpeg:https://carajas.org/wp-content/uploads/2018/03/23-de-abril-dia-mundial-do-escoteiron.jpg
END:VEVENT
BEGIN:VEVENT
DTSTART;VALUE=DATE:20180421
DTEND;VALUE=DATE:20180423
DTSTAMP:20260424T121731
CREATED:20180306T152058Z
LAST-MODIFIED:20180306T152058Z
UID:13323-1524268800-1524441599@carajas.org
SUMMARY:Seniors: Atividade
DESCRIPTION:
URL:https://carajas.org/evento/seniors-atividade-2/
ATTACH;FMTTYPE=image/png:https://carajas.org/wp-content/uploads/2015/09/eventos-default.png
END:VEVENT
BEGIN:VEVENT
DTSTART;VALUE=DATE:20180421
DTEND;VALUE=DATE:20180422
DTSTAMP:20260424T121731
CREATED:20180306T152010Z
LAST-MODIFIED:20180306T152010Z
UID:13322-1524268800-1524355199@carajas.org
SUMMARY:Cubs: Tawi e Ganges: Outing
DESCRIPTION:
URL:https://carajas.org/evento/cubs-tawi-e-ganges-outing/
ATTACH;FMTTYPE=image/png:https://carajas.org/wp-content/uploads/2015/09/eventos-default.png
END:VEVENT
BEGIN:VEVENT
DTSTART;VALUE=DATE:20180414
DTEND;VALUE=DATE:20180415
DTSTAMP:20260424T121731
CREATED:20180306T150855Z
LAST-MODIFIED:20180319T031846Z
UID:13319-1523664000-1523750399@carajas.org
SUMMARY:Rovers: Doação de Sangue
DESCRIPTION:
URL:https://carajas.org/evento/rovers-doacao-de-sangue-2/
ATTACH;FMTTYPE=image/jpeg:https://carajas.org/wp-content/uploads/2018/03/evento_doar-sangue.jpg
END:VEVENT
BEGIN:VEVENT
DTSTART;VALUE=DATE:20180407
DTEND;VALUE=DATE:20180408
DTSTAMP:20260424T121731
CREATED:20180306T145737Z
LAST-MODIFIED:20180306T145737Z
UID:13317-1523059200-1523145599@carajas.org
SUMMARY:Rovers: Atividade com Montanha Para Todos
DESCRIPTION:
URL:https://carajas.org/evento/rovers-atividade-com-montanha-para-todos/
ATTACH;FMTTYPE=image/png:https://carajas.org/wp-content/uploads/2018/03/Logo_Montanha-Para-Todos.png
END:VEVENT
BEGIN:VEVENT
DTSTART;VALUE=DATE:20180404
DTEND;VALUE=DATE:20180405
DTSTAMP:20260424T121731
CREATED:20180306T145355Z
LAST-MODIFIED:20180306T145355Z
UID:13316-1522800000-1522886399@carajas.org
SUMMARY:Chefia: Reunião
DESCRIPTION:
URL:https://carajas.org/evento/chefia-reuniao/
ATTACH;FMTTYPE=image/png:https://carajas.org/wp-content/uploads/2015/09/eventos-default.png
END:VEVENT
BEGIN:VEVENT
DTSTART;VALUE=DATE:20180330
DTEND;VALUE=DATE:20180402
DTSTAMP:20260424T121731
CREATED:20180304T041515Z
LAST-MODIFIED:20180321T191544Z
UID:13314-1522368000-1522627199@carajas.org
SUMMARY:Scoutas: Camp
DESCRIPTION:
URL:https://carajas.org/evento/scoutas-camp-4/
ATTACH;FMTTYPE=image/png:https://carajas.org/wp-content/uploads/2015/09/eventos-default.png
END:VEVENT
END:VCALENDAR