BEGIN:VCALENDAR
VERSION:2.0
PRODID:-// - ECPv6.9.0//NONSGML v1.0//EN
CALSCALE:GREGORIAN
METHOD:PUBLISH
X-ORIGINAL-URL:https://carajas.org
X-WR-CALDESC:Eventos para 
REFRESH-INTERVAL;VALUE=DURATION:PT1H
X-Robots-Tag:noindex
X-PUBLISHED-TTL:PT1H
BEGIN:VTIMEZONE
TZID:UTC
BEGIN:STANDARD
TZOFFSETFROM:+0000
TZOFFSETTO:+0000
TZNAME:UTC
DTSTART:20180101T000000
END:STANDARD
END:VTIMEZONE
BEGIN:VEVENT
DTSTART;VALUE=DATE:20190608
DTEND;VALUE=DATE:20190610
DTSTAMP:20260424T061600
CREATED:20190316T234456Z
LAST-MODIFIED:20190316T234456Z
UID:15390-1559952000-1560124799@carajas.org
SUMMARY:Jamboree Mundial: Acampamento de Participantes Grupo de Viagem Carajás
DESCRIPTION:
URL:https://carajas.org/evento/jamboree-mundial-acampamento-de-participantes-grupo-de-viagem-carajas/
ATTACH;FMTTYPE=image/png:https://carajas.org/wp-content/uploads/2018/08/2019WSJLogo.png
END:VEVENT
BEGIN:VEVENT
DTSTART;VALUE=DATE:20190519
DTEND;VALUE=DATE:20190520
DTSTAMP:20260424T061600
CREATED:20190316T234300Z
LAST-MODIFIED:20190316T234300Z
UID:15389-1558224000-1558310399@carajas.org
SUMMARY:Chefia: Curso de First-Aid
DESCRIPTION:
URL:https://carajas.org/evento/chefia-curso-de-first-aid/
ATTACH;FMTTYPE=image/png:https://carajas.org/wp-content/uploads/2015/09/eventos-default.png
END:VEVENT
BEGIN:VEVENT
DTSTART;VALUE=DATE:20190504
DTEND;VALUE=DATE:20190506
DTSTAMP:20260424T061600
CREATED:20190316T234045Z
LAST-MODIFIED:20190316T234103Z
UID:15388-1556928000-1557100799@carajas.org
SUMMARY:Scoutas: Camp
DESCRIPTION:
URL:https://carajas.org/evento/scoutas-camp-6/
ATTACH;FMTTYPE=image/png:https://carajas.org/wp-content/uploads/2015/09/eventos-default.png
END:VEVENT
BEGIN:VEVENT
DTSTART;VALUE=DATE:20190501
DTEND;VALUE=DATE:20190502
DTSTAMP:20260424T061600
CREATED:20190316T233736Z
LAST-MODIFIED:20190316T233736Z
UID:15387-1556668800-1556755199@carajas.org
SUMMARY:Cubs: Outing
DESCRIPTION:
URL:https://carajas.org/evento/cubs-outing-2/
ATTACH;FMTTYPE=image/png:https://carajas.org/wp-content/uploads/2015/09/eventos-default.png
END:VEVENT
BEGIN:VEVENT
DTSTART;VALUE=DATE:20190419
DTEND;VALUE=DATE:20190422
DTSTAMP:20260424T061600
CREATED:20190316T233438Z
LAST-MODIFIED:20190316T233438Z
UID:15385-1555632000-1555891199@carajas.org
SUMMARY:Scouts: Camp
DESCRIPTION:
URL:https://carajas.org/evento/scouts-camp-7/
ATTACH;FMTTYPE=image/png:https://carajas.org/wp-content/uploads/2015/09/eventos-default.png
END:VEVENT
BEGIN:VEVENT
DTSTART;VALUE=DATE:20190406
DTEND;VALUE=DATE:20190407
DTSTAMP:20260424T061600
CREATED:20190316T233204Z
LAST-MODIFIED:20190316T233246Z
UID:15384-1554508800-1554595199@carajas.org
SUMMARY:Rovers: Poker Night
DESCRIPTION:
URL:https://carajas.org/evento/rovers-poker-night/
ATTACH;FMTTYPE=image/png:https://carajas.org/wp-content/uploads/2015/09/eventos-default.png
END:VEVENT
BEGIN:VEVENT
DTSTART;VALUE=DATE:20190406
DTEND;VALUE=DATE:20190407
DTSTAMP:20260424T061600
CREATED:20190316T233056Z
LAST-MODIFIED:20190316T233056Z
UID:15383-1554508800-1554595199@carajas.org
SUMMARY:Cubs: British Legion Churrasco
DESCRIPTION:
URL:https://carajas.org/evento/cubs-gp-rolima-2-2/
ATTACH;FMTTYPE=image/png:https://carajas.org/wp-content/uploads/2015/09/eventos-default.png
END:VEVENT
BEGIN:VEVENT
DTSTART;VALUE=DATE:20190324
DTEND;VALUE=DATE:20190325
DTSTAMP:20260424T061600
CREATED:20190316T232005Z
LAST-MODIFIED:20190316T232005Z
UID:15380-1553385600-1553471999@carajas.org
SUMMARY:Jamboree Mundial: Encontro de Participantes Grupo de Viagem Carajás
DESCRIPTION:
URL:https://carajas.org/evento/jamboree-mundial-eua-2/
ATTACH;FMTTYPE=image/png:https://carajas.org/wp-content/uploads/2018/08/2019WSJLogo.png
END:VEVENT
BEGIN:VEVENT
DTSTART;VALUE=DATE:20181227
DTEND;VALUE=DATE:20190105
DTSTAMP:20260424T061600
CREATED:20180811T002206Z
LAST-MODIFIED:20180811T002442Z
UID:14096-1545868800-1546646399@carajas.org
SUMMARY:Rovers: Gilwell Expedition
DESCRIPTION:
URL:https://carajas.org/evento/rovers-gilwell-expedition/
ATTACH;FMTTYPE=image/png:https://carajas.org/wp-content/uploads/2018/08/Logo.png
END:VEVENT
BEGIN:VEVENT
DTSTART;VALUE=DATE:20181204
DTEND;VALUE=DATE:20181205
DTSTAMP:20260424T061600
CREATED:20180811T003025Z
LAST-MODIFIED:20180811T003025Z
UID:14100-1543881600-1543967999@carajas.org
SUMMARY:Scoutas: Última Reunião
DESCRIPTION:
URL:https://carajas.org/evento/scoutas-ultima-reuniao-2/
ATTACH;FMTTYPE=image/png:https://carajas.org/wp-content/uploads/2015/09/eventos-default.png
END:VEVENT
BEGIN:VEVENT
DTSTART;VALUE=DATE:20181202
DTEND;VALUE=DATE:20181203
DTSTAMP:20260424T061600
CREATED:20180811T001955Z
LAST-MODIFIED:20180811T001955Z
UID:14095-1543708800-1543795199@carajas.org
SUMMARY:Chefia: Atividade e Confraternização
DESCRIPTION:
URL:https://carajas.org/evento/chefia-atividade-e-confraternizacao/
ATTACH;FMTTYPE=image/png:https://carajas.org/wp-content/uploads/2015/09/eventos-default.png
END:VEVENT
BEGIN:VEVENT
DTSTART;VALUE=DATE:20181201
DTEND;VALUE=DATE:20181202
DTSTAMP:20260424T061600
CREATED:20180811T001849Z
LAST-MODIFIED:20180811T001849Z
UID:14094-1543622400-1543708799@carajas.org
SUMMARY:Campfire
DESCRIPTION:
URL:https://carajas.org/evento/campfire-4/
ATTACH;FMTTYPE=image/png:https://carajas.org/wp-content/uploads/2015/09/eventos-default.png
END:VEVENT
BEGIN:VEVENT
DTSTART;VALUE=DATE:20181201
DTEND;VALUE=DATE:20181202
DTSTAMP:20260424T061600
CREATED:20180811T001751Z
LAST-MODIFIED:20180811T001751Z
UID:14093-1543622400-1543708799@carajas.org
SUMMARY:Seniors: Regata Evrill-Moore
DESCRIPTION:
URL:https://carajas.org/evento/seniors-regata-evrill-moore-2/
ATTACH;FMTTYPE=image/png:https://carajas.org/wp-content/uploads/2018/03/evento_spyc.png
END:VEVENT
BEGIN:VEVENT
DTSTART;VALUE=DATE:20181128
DTEND;VALUE=DATE:20181129
DTSTAMP:20260424T061600
CREATED:20180811T001504Z
LAST-MODIFIED:20181111T011901Z
UID:14090-1543363200-1543449599@carajas.org
SUMMARY:Chefia: Reunião
DESCRIPTION:
URL:https://carajas.org/evento/chefia-reuniao-9-2-2-2/
ATTACH;FMTTYPE=image/png:https://carajas.org/wp-content/uploads/2015/09/eventos-default.png
END:VEVENT
BEGIN:VEVENT
DTSTART;VALUE=DATE:20181126
DTEND;VALUE=DATE:20181127
DTSTAMP:20260424T061600
CREATED:20180811T002932Z
LAST-MODIFIED:20180811T002932Z
UID:14099-1543190400-1543276799@carajas.org
SUMMARY:Scouts: Última Reunião
DESCRIPTION:
URL:https://carajas.org/evento/scouts-ultima-reuniao-2/
ATTACH;FMTTYPE=image/png:https://carajas.org/wp-content/uploads/2015/09/eventos-default.png
END:VEVENT
BEGIN:VEVENT
DTSTART;VALUE=DATE:20181124
DTEND;VALUE=DATE:20181125
DTSTAMP:20260424T061600
CREATED:20180823T200514Z
LAST-MODIFIED:20180823T200514Z
UID:14256-1543017600-1543103999@carajas.org
SUMMARY:Cubs: GP Rolimã
DESCRIPTION:
URL:https://carajas.org/evento/cubs-gp-rolima-2/
ATTACH;FMTTYPE=image/png:https://carajas.org/wp-content/uploads/2015/09/eventos-default.png
END:VEVENT
BEGIN:VEVENT
DTSTART;VALUE=DATE:20181114
DTEND;VALUE=DATE:20181121
DTSTAMP:20260424T061600
CREATED:20180811T001650Z
LAST-MODIFIED:20181111T011809Z
UID:14092-1542153600-1542758399@carajas.org
SUMMARY:Scouts: Camp
DESCRIPTION:
URL:https://carajas.org/evento/scouts-camp-6/
ATTACH;FMTTYPE=image/png:https://carajas.org/wp-content/uploads/2015/09/eventos-default.png
END:VEVENT
BEGIN:VEVENT
DTSTART;VALUE=DATE:20181110
DTEND;VALUE=DATE:20181111
DTSTAMP:20260424T061600
CREATED:20180811T001553Z
LAST-MODIFIED:20180811T001553Z
UID:14091-1541808000-1541894399@carajas.org
SUMMARY:Rovers: Doação de Sangue
DESCRIPTION:
URL:https://carajas.org/evento/rovers-doacao-de-sangue-3-2/
ATTACH;FMTTYPE=image/jpeg:https://carajas.org/wp-content/uploads/2018/03/evento_doar-sangue.jpg
END:VEVENT
BEGIN:VEVENT
DTSTART;VALUE=DATE:20181104
DTEND;VALUE=DATE:20181105
DTSTAMP:20260424T061600
CREATED:20180811T001424Z
LAST-MODIFIED:20180811T001424Z
UID:14088-1541289600-1541375999@carajas.org
SUMMARY:Fundação da União dos Escoteiros do Brasil (1924)
DESCRIPTION:
URL:https://carajas.org/evento/fundacao-da-uniao-dos-escoteiros-do-brasil-1924/
ATTACH;FMTTYPE=image/png:https://carajas.org/wp-content/uploads/2018/08/images.png
END:VEVENT
BEGIN:VEVENT
DTSTART;VALUE=DATE:20181102
DTEND;VALUE=DATE:20181105
DTSTAMP:20260424T061600
CREATED:20180811T001235Z
LAST-MODIFIED:20180811T001235Z
UID:14087-1541116800-1541375999@carajas.org
SUMMARY:Cubs: Camp
DESCRIPTION:
URL:https://carajas.org/evento/cubs-camp-4/
ATTACH;FMTTYPE=image/png:https://carajas.org/wp-content/uploads/2015/09/eventos-default.png
END:VEVENT
BEGIN:VEVENT
DTSTART;VALUE=DATE:20181101
DTEND;VALUE=DATE:20181105
DTSTAMP:20260424T061600
CREATED:20180811T001129Z
LAST-MODIFIED:20180811T001129Z
UID:14086-1541030400-1541375999@carajas.org
SUMMARY:Scoutas: Camp
DESCRIPTION:
URL:https://carajas.org/evento/scoutas-camp-5/
ATTACH;FMTTYPE=image/png:https://carajas.org/wp-content/uploads/2015/09/eventos-default.png
END:VEVENT
BEGIN:VEVENT
DTSTART;VALUE=DATE:20181021
DTEND;VALUE=DATE:20181022
DTSTAMP:20260424T061600
CREATED:20180811T001030Z
LAST-MODIFIED:20180811T001030Z
UID:14085-1540080000-1540166399@carajas.org
SUMMARY:Scoutas: Outing
DESCRIPTION:
URL:https://carajas.org/evento/scoutas-outing-2/
ATTACH;FMTTYPE=image/png:https://carajas.org/wp-content/uploads/2015/09/eventos-default.png
END:VEVENT
BEGIN:VEVENT
DTSTART;VALUE=DATE:20181010
DTEND;VALUE=DATE:20181011
DTSTAMP:20260424T061600
CREATED:20180810T234745Z
LAST-MODIFIED:20180820T225009Z
UID:14074-1539129600-1539215999@carajas.org
SUMMARY:Scouts e Scoutas: Reunião Jamboree
DESCRIPTION:
URL:https://carajas.org/evento/scouts-e-scoutas-reuniao-jamboree/
ATTACH;FMTTYPE=image/png:https://carajas.org/wp-content/uploads/2018/08/2019WSJLogo.png
END:VEVENT
BEGIN:VEVENT
DTSTART;VALUE=DATE:20181006
DTEND;VALUE=DATE:20181007
DTSTAMP:20260424T061600
CREATED:20180811T000906Z
LAST-MODIFIED:20180811T000906Z
UID:14084-1538784000-1538870399@carajas.org
SUMMARY:Cubs: Reunião Conjunta no SPYC
DESCRIPTION:
URL:https://carajas.org/evento/cubs-reuniao-conjunta-no-spyc/
ATTACH;FMTTYPE=image/png:https://carajas.org/wp-content/uploads/2015/09/eventos-default.png
END:VEVENT
BEGIN:VEVENT
DTSTART;VALUE=DATE:20181004
DTEND;VALUE=DATE:20181005
DTSTAMP:20260424T061600
CREATED:20180811T000818Z
LAST-MODIFIED:20180811T000818Z
UID:14082-1538611200-1538697599@carajas.org
SUMMARY:Dia Mundial do Lobinho
DESCRIPTION:
URL:https://carajas.org/evento/dia-mundial-do-lobinho/
ATTACH;FMTTYPE=image/jpeg:https://carajas.org/wp-content/uploads/2018/08/Dia-do-Lobinho.jpg
END:VEVENT
BEGIN:VEVENT
DTSTART;VALUE=DATE:20181003
DTEND;VALUE=DATE:20181004
DTSTAMP:20260424T061600
CREATED:20180811T000648Z
LAST-MODIFIED:20180811T000648Z
UID:14081-1538524800-1538611199@carajas.org
SUMMARY:Chefia: Reunião
DESCRIPTION:
URL:https://carajas.org/evento/chefia-reuniao-9-2-2/
ATTACH;FMTTYPE=image/png:https://carajas.org/wp-content/uploads/2015/09/eventos-default.png
END:VEVENT
BEGIN:VEVENT
DTSTART;VALUE=DATE:20180929
DTEND;VALUE=DATE:20180930
DTSTAMP:20260424T061600
CREATED:20180829T185713Z
LAST-MODIFIED:20180829T185713Z
UID:14265-1538179200-1538265599@carajas.org
SUMMARY:Cubs: British Legion Churrasco
DESCRIPTION:
URL:https://carajas.org/evento/cubs-british-legion-churrasco-2/
ATTACH;FMTTYPE=image/png:https://carajas.org/wp-content/uploads/2015/09/eventos-default.png
END:VEVENT
BEGIN:VEVENT
DTSTART;VALUE=DATE:20180923
DTEND;VALUE=DATE:20180924
DTSTAMP:20260424T061600
CREATED:20180811T000603Z
LAST-MODIFIED:20180811T000603Z
UID:14079-1537660800-1537747199@carajas.org
SUMMARY:Scouting Games
DESCRIPTION:
URL:https://carajas.org/evento/scouting-games-2/
ATTACH;FMTTYPE=image/jpeg:https://carajas.org/wp-content/uploads/2018/08/SG_Logo.jpg
END:VEVENT
BEGIN:VEVENT
DTSTART;VALUE=DATE:20180915
DTEND;VALUE=DATE:20180916
DTSTAMP:20260424T061600
CREATED:20180810T235126Z
LAST-MODIFIED:20180810T235126Z
UID:14078-1536969600-1537055999@carajas.org
SUMMARY:SEI
DESCRIPTION:
URL:https://carajas.org/evento/sei/
ATTACH;FMTTYPE=image/jpeg:https://carajas.org/wp-content/uploads/2018/07/SEI2018_SaveTheDate_FB.jpg
END:VEVENT
BEGIN:VEVENT
DTSTART;VALUE=DATE:20180907
DTEND;VALUE=DATE:20180910
DTSTAMP:20260424T061600
CREATED:20180810T235016Z
LAST-MODIFIED:20180810T235016Z
UID:14077-1536278400-1536537599@carajas.org
SUMMARY:Seniors: Camp
DESCRIPTION:
URL:https://carajas.org/evento/seniors-camp-6/
ATTACH;FMTTYPE=image/png:https://carajas.org/wp-content/uploads/2015/09/eventos-default.png
END:VEVENT
END:VCALENDAR