BEGIN:VCALENDAR
VERSION:2.0
PRODID:-// - ECPv6.9.0//NONSGML v1.0//EN
CALSCALE:GREGORIAN
METHOD:PUBLISH
X-ORIGINAL-URL:https://carajas.org
X-WR-CALDESC:Eventos para 
REFRESH-INTERVAL;VALUE=DURATION:PT1H
X-Robots-Tag:noindex
X-PUBLISHED-TTL:PT1H
BEGIN:VTIMEZONE
TZID:UTC
BEGIN:STANDARD
TZOFFSETFROM:+0000
TZOFFSETTO:+0000
TZNAME:UTC
DTSTART:20150101T000000
END:STANDARD
END:VTIMEZONE
BEGIN:VEVENT
DTSTART;VALUE=DATE:20150926
DTEND;VALUE=DATE:20150927
DTSTAMP:20260425T121205
CREATED:20150918T034348Z
LAST-MODIFIED:20150922T020752Z
UID:7231-1443225600-1443311999@carajas.org
SUMMARY:Outing Scouts - Entrega de Livros (MutCom)
DESCRIPTION:
URL:https://carajas.org/evento/outing-scouts-entrega-de-livros-mutcom/
ATTACH;FMTTYPE=image/jpeg:https://carajas.org/wp-content/uploads/2015/09/evento-26-09.jpg
END:VEVENT
BEGIN:VEVENT
DTSTART;TZID=UTC:20150925T190000
DTEND;TZID=UTC:20150925T210000
DTSTAMP:20260425T121205
CREATED:20150918T034313Z
LAST-MODIFIED:20150922T025650Z
UID:7230-1443207600-1443214800@carajas.org
SUMMARY:Reunião de Cubs aberta a Sócios do SPAC
DESCRIPTION:Convidamos vocês a conhecerem um pouco mais sobre o Grupo Escoteiro Carajás que\, fundado em 1925 por membros da comunidade britânica\, continua até hoje a oferecer ótima qualidade de escotismo para crianças e jovens em São Paulo. \nNosso objetivo é oferecer ótimo Escotismo para o maior número de pessoas. Acreditamos que com mais Escoteiros\, melhores cidadãos. Convidamos você e sua família a participar conosco de uma de nossas atividades\, elaborada especialmente para receber novos interessados.
URL:https://carajas.org/evento/reuniao-de-cubs-aberta-a-socios-do-spac/
ATTACH;FMTTYPE=image/png:https://carajas.org/wp-content/uploads/2015/09/eventos-default.png
END:VEVENT
BEGIN:VEVENT
DTSTART;TZID=UTC:20150922T190000
DTEND;TZID=UTC:20150922T210000
DTSTAMP:20260425T121205
CREATED:20150918T034247Z
LAST-MODIFIED:20150922T025645Z
UID:7229-1442948400-1442955600@carajas.org
SUMMARY:Reunião de Scoutas aberta a Sócios do SPAC
DESCRIPTION:Convidamos vocês a conhecerem um pouco mais sobre o Grupo Escoteiro Carajás que\, fundado em 1925 por membros da comunidade britânica\, continua até hoje a oferecer ótima qualidade de escotismo para crianças e jovens em São Paulo. \nNosso objetivo é oferecer ótimo Escotismo para o maior número de pessoas. Acreditamos que com mais Escoteiros\, melhores cidadãos. Convidamos você e sua família a participar conosco de uma de nossas atividades\, elaborada especialmente para receber novos interessados.
URL:https://carajas.org/evento/reuniao-de-scoutas-aberta-a-socios-do-spac/
ATTACH;FMTTYPE=image/png:https://carajas.org/wp-content/uploads/2015/09/eventos-default.png
END:VEVENT
BEGIN:VEVENT
DTSTART;TZID=UTC:20150921T190000
DTEND;TZID=UTC:20150921T210000
DTSTAMP:20260425T121205
CREATED:20150918T035200Z
LAST-MODIFIED:20150918T035200Z
UID:7244-1442862000-1442869200@carajas.org
SUMMARY:Reunião de Scouts aberta a Sócios do SPAC
DESCRIPTION:
URL:https://carajas.org/evento/reuniao-de-scouts-aberta-a-socios-do-spac/
END:VEVENT
BEGIN:VEVENT
DTSTART;TZID=UTC:20150920T090000
DTEND;TZID=UTC:20150920T120000
DTSTAMP:20260425T121205
CREATED:20150831T100426Z
LAST-MODIFIED:20150920T210712Z
UID:6488-1442739600-1442750400@carajas.org
SUMMARY:Cozinha Solar
DESCRIPTION:A cozinha solar é uma alternativa interessante à cozinha tradicional\, mas continua a ser algo que é ainda desconhecido ou com potencial duvidoso em termos da sua eficácia por parte de muitos cidadãos. O uso da energia solar para cocção direta dos alimentos não é uma utopia\, mas também não é prática corrente adotada em contexto doméstico e em restaurantes ou cantinas. \nÉ uma realidade apenas em alguns restaurantes solares chilenos localizados em Vila Seca onde a probabilidade de haver um dia nublado é praticamente nula\, em mega-cantinas de centros espirituais e em cantinas de muitas escolas na Índia\, além de estar presente nas casas de alguns entusiastas da cozinha solar\, tal como na casa de Celestino Ruivo no Algarve em Portugal. \nNós teremos a oportunidade de conhecer Celestino e ouvir um pouco sobre os fornos solares\, aprender muito com ele\, além de experimentar o que será feito no dia! \nTorcemos para que faça sol e possamos aproveitar essa chance\, obtendo uma experiência incrível nesta área. \n 
URL:https://carajas.org/evento/cozinha-solar/
LOCATION:Sede Bela Vista
ATTACH;FMTTYPE=image/jpeg:https://carajas.org/wp-content/uploads/2015/09/CozinhaSolar_Flyer_RGB-e1442548936452.jpg
END:VEVENT
END:VCALENDAR