BEGIN:VCALENDAR
VERSION:2.0
PRODID:-// - ECPv6.9.0//NONSGML v1.0//EN
CALSCALE:GREGORIAN
METHOD:PUBLISH
X-ORIGINAL-URL:https://carajas.org
X-WR-CALDESC:Eventos para 
REFRESH-INTERVAL;VALUE=DURATION:PT1H
X-Robots-Tag:noindex
X-PUBLISHED-TTL:PT1H
BEGIN:VTIMEZONE
TZID:UTC
BEGIN:STANDARD
TZOFFSETFROM:+0000
TZOFFSETTO:+0000
TZNAME:UTC
DTSTART:20160101T000000
END:STANDARD
END:VTIMEZONE
BEGIN:VEVENT
DTSTART;VALUE=DATE:20170221
DTEND;VALUE=DATE:20170222
DTSTAMP:20260425T005811
CREATED:20170215T220905Z
LAST-MODIFIED:20170215T220905Z
UID:10052-1487635200-1487721599@carajas.org
SUMMARY:Scoutas: Reunião de Pais
DESCRIPTION:
URL:https://carajas.org/evento/scoutas-reuniao-de-pais-2/
ATTACH;FMTTYPE=image/png:https://carajas.org/wp-content/uploads/2015/09/eventos-default.png
END:VEVENT
BEGIN:VEVENT
DTSTART;VALUE=DATE:20170220
DTEND;VALUE=DATE:20170221
DTSTAMP:20260425T005811
CREATED:20170215T220807Z
LAST-MODIFIED:20170215T220807Z
UID:10051-1487548800-1487635199@carajas.org
SUMMARY:Scouts: Reunião de Pais
DESCRIPTION:
URL:https://carajas.org/evento/scouts-reuniao-de-pais-3/
ATTACH;FMTTYPE=image/png:https://carajas.org/wp-content/uploads/2015/09/eventos-default.png
END:VEVENT
BEGIN:VEVENT
DTSTART;VALUE=DATE:20170219
DTEND;VALUE=DATE:20170220
DTSTAMP:20260425T005811
CREATED:20170215T220526Z
LAST-MODIFIED:20170215T220526Z
UID:10049-1487462400-1487548799@carajas.org
SUMMARY:Field Day & Going-Up & AGO
DESCRIPTION:
URL:https://carajas.org/evento/field-day-going-up-ago/
ATTACH;FMTTYPE=image/png:https://carajas.org/wp-content/uploads/2015/09/eventos-default.png
END:VEVENT
BEGIN:VEVENT
DTSTART;VALUE=DATE:20170210
DTEND;VALUE=DATE:20170211
DTSTAMP:20260425T005811
CREATED:20161224T003633Z
LAST-MODIFIED:20161224T003633Z
UID:10042-1486684800-1486771199@carajas.org
SUMMARY:Cubs: Início das Atividades
DESCRIPTION:
URL:https://carajas.org/evento/cubs-inicio-das-atividades/
ATTACH;FMTTYPE=image/png:https://carajas.org/wp-content/uploads/2015/09/eventos-default.png
END:VEVENT
BEGIN:VEVENT
DTSTART;VALUE=DATE:20170208
DTEND;VALUE=DATE:20170209
DTSTAMP:20260425T005811
CREATED:20170215T220708Z
LAST-MODIFIED:20170215T220708Z
UID:10050-1486512000-1486598399@carajas.org
SUMMARY:Trilha Escoteira
DESCRIPTION:
URL:https://carajas.org/evento/trilha-escoteira/
ATTACH;FMTTYPE=image/png:https://carajas.org/wp-content/uploads/2015/09/eventos-default.png
END:VEVENT
BEGIN:VEVENT
DTSTART;VALUE=DATE:20170207
DTEND;VALUE=DATE:20170208
DTSTAMP:20260425T005811
CREATED:20161224T003815Z
LAST-MODIFIED:20161224T003815Z
UID:10044-1486425600-1486511999@carajas.org
SUMMARY:Scoutas: Início das Atividades
DESCRIPTION:
URL:https://carajas.org/evento/scoutas-inicio-das-atividades/
ATTACH;FMTTYPE=image/png:https://carajas.org/wp-content/uploads/2015/09/eventos-default.png
END:VEVENT
BEGIN:VEVENT
DTSTART;VALUE=DATE:20170206
DTEND;VALUE=DATE:20170207
DTSTAMP:20260425T005811
CREATED:20161224T003726Z
LAST-MODIFIED:20161224T003726Z
UID:10043-1486339200-1486425599@carajas.org
SUMMARY:Scouts: Início das Atividades
DESCRIPTION:
URL:https://carajas.org/evento/scouts-inicio-das-atividades/
ATTACH;FMTTYPE=image/png:https://carajas.org/wp-content/uploads/2015/09/eventos-default.png
END:VEVENT
BEGIN:VEVENT
DTSTART;VALUE=DATE:20170205
DTEND;VALUE=DATE:20170206
DTSTAMP:20260425T005811
CREATED:20170226T190026Z
LAST-MODIFIED:20170226T190026Z
UID:10055-1486252800-1486339199@carajas.org
SUMMARY:Scouts & Scoutas: Workshop Barraca Iglu
DESCRIPTION:
URL:https://carajas.org/evento/scouts-scoutas-workshop-barraca-iglu/
ATTACH;FMTTYPE=image/png:https://carajas.org/wp-content/uploads/2015/09/eventos-default.png
END:VEVENT
BEGIN:VEVENT
DTSTART;VALUE=DATE:20170128
DTEND;VALUE=DATE:20170130
DTSTAMP:20260425T005811
CREATED:20161224T003920Z
LAST-MODIFIED:20161224T003920Z
UID:10045-1485561600-1485734399@carajas.org
SUMMARY:Chefia: Indaba
DESCRIPTION:
URL:https://carajas.org/evento/chefia-indaba/
ATTACH;FMTTYPE=image/png:https://carajas.org/wp-content/uploads/2015/09/eventos-default.png
END:VEVENT
BEGIN:VEVENT
DTSTART;VALUE=DATE:20161227
DTEND;VALUE=DATE:20170103
DTSTAMP:20260425T005811
CREATED:20160811T024609Z
LAST-MODIFIED:20160811T024609Z
UID:9294-1482796800-1483401599@carajas.org
SUMMARY:JamCam Equador
DESCRIPTION:
URL:https://carajas.org/evento/jamcam-equador/
ATTACH;FMTTYPE=image/jpeg:https://carajas.org/wp-content/uploads/2016/08/b-brgks6.jpg
END:VEVENT
BEGIN:VEVENT
DTSTART;VALUE=DATE:20161216
DTEND;VALUE=DATE:20161219
DTSTAMP:20260425T005811
CREATED:20160811T023454Z
LAST-MODIFIED:20161118T004016Z
UID:9288-1481846400-1482105599@carajas.org
SUMMARY:Rovers: Camp
DESCRIPTION:
URL:https://carajas.org/evento/rovers-camp-2/
ATTACH;FMTTYPE=image/png:https://carajas.org/wp-content/uploads/2015/09/eventos-default.png
END:VEVENT
BEGIN:VEVENT
DTSTART;VALUE=DATE:20161203
DTEND;VALUE=DATE:20161204
DTSTAMP:20260425T005811
CREATED:20161101T004124Z
LAST-MODIFIED:20161101T004124Z
UID:9481-1480723200-1480809599@carajas.org
SUMMARY:Foto de Grupo
DESCRIPTION:
URL:https://carajas.org/evento/foto-de-grupo/
ATTACH;FMTTYPE=image/png:https://carajas.org/wp-content/uploads/2015/09/eventos-default.png
END:VEVENT
BEGIN:VEVENT
DTSTART;VALUE=DATE:20161203
DTEND;VALUE=DATE:20161204
DTSTAMP:20260425T005811
CREATED:20160905T181942Z
LAST-MODIFIED:20160905T181942Z
UID:9332-1480723200-1480809599@carajas.org
SUMMARY:Seniors: Regata Evrill-Moore
DESCRIPTION:
URL:https://carajas.org/evento/seniors-regata-evrill-moore/
ATTACH;FMTTYPE=image/png:https://carajas.org/wp-content/uploads/2015/09/eventos-default.png
END:VEVENT
BEGIN:VEVENT
DTSTART;VALUE=DATE:20161203
DTEND;VALUE=DATE:20161204
DTSTAMP:20260425T005811
CREATED:20160811T023421Z
LAST-MODIFIED:20160811T023421Z
UID:9286-1480723200-1480809599@carajas.org
SUMMARY:Campfire
DESCRIPTION:
URL:https://carajas.org/evento/campfire-2/
ATTACH;FMTTYPE=image/jpeg:https://carajas.org/wp-content/uploads/2016/08/fogueira.jpg
END:VEVENT
BEGIN:VEVENT
DTSTART;VALUE=DATE:20161112
DTEND;VALUE=DATE:20161116
DTSTAMP:20260425T005811
CREATED:20160811T023031Z
LAST-MODIFIED:20160811T023031Z
UID:9284-1478908800-1479254399@carajas.org
SUMMARY:Cubs: Camp
DESCRIPTION:
URL:https://carajas.org/evento/cubs-camp-2/
ATTACH;FMTTYPE=image/png:https://carajas.org/wp-content/uploads/2015/09/eventos-default.png
END:VEVENT
BEGIN:VEVENT
DTSTART;VALUE=DATE:20161112
DTEND;VALUE=DATE:20161116
DTSTAMP:20260425T005811
CREATED:20160811T022930Z
LAST-MODIFIED:20160811T022930Z
UID:9282-1478908800-1479254399@carajas.org
SUMMARY:Scouts: Camp
DESCRIPTION:
URL:https://carajas.org/evento/scouts-camp-3/
ATTACH;FMTTYPE=image/png:https://carajas.org/wp-content/uploads/2015/09/eventos-default.png
END:VEVENT
BEGIN:VEVENT
DTSTART;VALUE=DATE:20161111
DTEND;VALUE=DATE:20161116
DTSTAMP:20260425T005811
CREATED:20160811T022957Z
LAST-MODIFIED:20161101T003735Z
UID:9283-1478822400-1479254399@carajas.org
SUMMARY:Scoutas: Camp
DESCRIPTION:
URL:https://carajas.org/evento/scoutas-camp-3/
ATTACH;FMTTYPE=image/png:https://carajas.org/wp-content/uploads/2015/09/eventos-default.png
END:VEVENT
BEGIN:VEVENT
DTSTART;VALUE=DATE:20161102
DTEND;VALUE=DATE:20161103
DTSTAMP:20260425T005811
CREATED:20161101T002500Z
LAST-MODIFIED:20161101T002500Z
UID:9479-1478044800-1478131199@carajas.org
SUMMARY:Reunião de Integração - JamCam Equador
DESCRIPTION:
URL:https://carajas.org/evento/reuniao-de-integracao-jamcam-equador/
ATTACH;FMTTYPE=image/jpeg:https://carajas.org/wp-content/uploads/2016/08/b-brgks6.jpg
END:VEVENT
BEGIN:VEVENT
DTSTART;VALUE=DATE:20161023
DTEND;VALUE=DATE:20161024
DTSTAMP:20260425T005811
CREATED:20160811T022848Z
LAST-MODIFIED:20160811T022848Z
UID:9281-1477180800-1477267199@carajas.org
SUMMARY:Scoutas: Outing
DESCRIPTION:
URL:https://carajas.org/evento/scoutas-outing/
ATTACH;FMTTYPE=image/png:https://carajas.org/wp-content/uploads/2015/09/eventos-default.png
END:VEVENT
BEGIN:VEVENT
DTSTART;VALUE=DATE:20161014
DTEND;VALUE=DATE:20161017
DTSTAMP:20260425T005811
CREATED:20160905T180649Z
LAST-MODIFIED:20161019T231519Z
UID:9331-1476403200-1476662399@carajas.org
SUMMARY:Seniors: Camp
DESCRIPTION:
URL:https://carajas.org/evento/seniors-camp-2/
ATTACH;FMTTYPE=image/png:https://carajas.org/wp-content/uploads/2015/09/eventos-default.png
END:VEVENT
BEGIN:VEVENT
DTSTART;VALUE=DATE:20161008
DTEND;VALUE=DATE:20161009
DTSTAMP:20260425T005811
CREATED:20160811T022719Z
LAST-MODIFIED:20160816T235439Z
UID:9279-1475884800-1475971199@carajas.org
SUMMARY:Olimpíadas SPYC
DESCRIPTION:
URL:https://carajas.org/evento/olimpiadas-spyc/
ATTACH;FMTTYPE=image/png:https://carajas.org/wp-content/uploads/2015/09/spyc.png
END:VEVENT
BEGIN:VEVENT
DTSTART;VALUE=DATE:20161008
DTEND;VALUE=DATE:20161009
DTSTAMP:20260425T005811
CREATED:20160811T022545Z
LAST-MODIFIED:20160920T160659Z
UID:9278-1475884800-1475971199@carajas.org
SUMMARY:Rovers: Atividade Comunitária
DESCRIPTION:
URL:https://carajas.org/evento/rovers-atividade-comunitaria/
ATTACH;FMTTYPE=image/png:https://carajas.org/wp-content/uploads/2015/09/eventos-default.png
END:VEVENT
BEGIN:VEVENT
DTSTART;VALUE=DATE:20161008
DTEND;VALUE=DATE:20161009
DTSTAMP:20260425T005811
CREATED:20160811T022510Z
LAST-MODIFIED:20160811T022510Z
UID:9277-1475884800-1475971199@carajas.org
SUMMARY:Cubs: Outing
DESCRIPTION:
URL:https://carajas.org/evento/cubs-outing/
ATTACH;FMTTYPE=image/png:https://carajas.org/wp-content/uploads/2015/09/eventos-default.png
END:VEVENT
BEGIN:VEVENT
DTSTART;VALUE=DATE:20161001
DTEND;VALUE=DATE:20161002
DTSTAMP:20260425T005811
CREATED:20160811T022418Z
LAST-MODIFIED:20160811T022418Z
UID:9276-1475280000-1475366399@carajas.org
SUMMARY:Sampa Tour
DESCRIPTION:
URL:https://carajas.org/evento/sampa-tour/
ATTACH;FMTTYPE=image/png:https://carajas.org/wp-content/uploads/2015/09/eventos-default.png
END:VEVENT
BEGIN:VEVENT
DTSTART;VALUE=DATE:20160925
DTEND;VALUE=DATE:20160926
DTSTAMP:20260425T005811
CREATED:20160811T022241Z
LAST-MODIFIED:20160811T022241Z
UID:9274-1474761600-1474847999@carajas.org
SUMMARY:British Legion Churrasco
DESCRIPTION:
URL:https://carajas.org/evento/british-legion-churrasco-2/
ATTACH;FMTTYPE=image/png:https://carajas.org/wp-content/uploads/2016/08/britishlegion.png
END:VEVENT
BEGIN:VEVENT
DTSTART;VALUE=DATE:20160911
DTEND;VALUE=DATE:20160912
DTSTAMP:20260425T005811
CREATED:20160811T021928Z
LAST-MODIFIED:20160913T201358Z
UID:9273-1473552000-1473638399@carajas.org
SUMMARY:Scoutas: Atividade Comunitária
DESCRIPTION:
URL:https://carajas.org/evento/scoutas-atividade-comunitaria/
ATTACH;FMTTYPE=image/png:https://carajas.org/wp-content/uploads/2015/09/eventos-default.png
END:VEVENT
BEGIN:VEVENT
DTSTART;VALUE=DATE:20160904
DTEND;VALUE=DATE:20160905
DTSTAMP:20260425T005811
CREATED:20160811T023834Z
LAST-MODIFIED:20160811T024427Z
UID:9289-1472947200-1473033599@carajas.org
SUMMARY:Scouting Games
DESCRIPTION:
URL:https://carajas.org/evento/scouting-games/
ATTACH;FMTTYPE=image/jpeg:https://carajas.org/wp-content/uploads/2016/08/scouting-games.jpg
END:VEVENT
BEGIN:VEVENT
DTSTART;VALUE=DATE:20160830
DTEND;VALUE=DATE:20160831
DTSTAMP:20260425T005811
CREATED:20160812T213234Z
LAST-MODIFIED:20160812T213234Z
UID:9296-1472515200-1472601599@carajas.org
SUMMARY:Scoutas: Reunião de Pais
DESCRIPTION:
URL:https://carajas.org/evento/scoutas-reuniao-de-pais/
ATTACH;FMTTYPE=image/png:https://carajas.org/wp-content/uploads/2015/09/eventos-default.png
END:VEVENT
BEGIN:VEVENT
DTSTART;VALUE=DATE:20160820
DTEND;VALUE=DATE:20160821
DTSTAMP:20260425T005811
CREATED:20160811T021722Z
LAST-MODIFIED:20160812T213437Z
UID:9271-1471651200-1471737599@carajas.org
SUMMARY:Pet Show
DESCRIPTION:
URL:https://carajas.org/evento/pet-show/
ATTACH;FMTTYPE=image/png:https://carajas.org/wp-content/uploads/2016/08/Screen-Shot-2016-08-12-at-18.29.06.png
END:VEVENT
BEGIN:VEVENT
DTSTART;VALUE=DATE:20160819
DTEND;VALUE=DATE:20160820
DTSTAMP:20260425T005811
CREATED:20160811T021329Z
LAST-MODIFIED:20160811T021329Z
UID:9270-1471564800-1471651199@carajas.org
SUMMARY:Cubs: Reunião de Pais
DESCRIPTION:
URL:https://carajas.org/evento/cubs-reuniao-de-pais-2/
ATTACH;FMTTYPE=image/png:https://carajas.org/wp-content/uploads/2015/09/eventos-default.png
END:VEVENT
END:VCALENDAR