BEGIN:VCALENDAR
VERSION:2.0
PRODID:-// - ECPv6.9.0//NONSGML v1.0//EN
CALSCALE:GREGORIAN
METHOD:PUBLISH
X-ORIGINAL-URL:https://carajas.org
X-WR-CALDESC:Eventos para 
REFRESH-INTERVAL;VALUE=DURATION:PT1H
X-Robots-Tag:noindex
X-PUBLISHED-TTL:PT1H
BEGIN:VTIMEZONE
TZID:UTC
BEGIN:STANDARD
TZOFFSETFROM:+0000
TZOFFSETTO:+0000
TZNAME:UTC
DTSTART:20160101T000000
END:STANDARD
END:VTIMEZONE
BEGIN:VEVENT
DTSTART;VALUE=DATE:20170702
DTEND;VALUE=DATE:20170711
DTSTAMP:20260424T220535
CREATED:20170226T194110Z
LAST-MODIFIED:20170226T194358Z
UID:10069-1498953600-1499731199@carajas.org
SUMMARY:Scouts e Scoutas: July Camp + Jubiree
DESCRIPTION:
URL:https://carajas.org/evento/scouts-july-camp-jubiree/
ATTACH;FMTTYPE=image/png:https://carajas.org/wp-content/uploads/2015/09/eventos-default.png
END:VEVENT
BEGIN:VEVENT
DTSTART;VALUE=DATE:20170625
DTEND;VALUE=DATE:20170626
DTSTAMP:20260424T220535
CREATED:20170523T200404Z
LAST-MODIFIED:20170523T200404Z
UID:11394-1498348800-1498435199@carajas.org
SUMMARY:Scouts e Scoutas: Highland Games
DESCRIPTION:
URL:https://carajas.org/evento/scouts-e-scoutas-highland-games/
ATTACH;FMTTYPE=image/jpeg:https://carajas.org/wp-content/uploads/2017/05/18519558_1384798858266426_4303345086154612294_n.jpg
END:VEVENT
BEGIN:VEVENT
DTSTART;VALUE=DATE:20170620
DTEND;VALUE=DATE:20170621
DTSTAMP:20260424T220535
CREATED:20170306T115828Z
LAST-MODIFIED:20170306T115828Z
UID:10115-1497916800-1498003199@carajas.org
SUMMARY:Queen's Birthday
DESCRIPTION:
URL:https://carajas.org/evento/queens-birthday-2/
ATTACH;FMTTYPE=image/jpeg:https://carajas.org/wp-content/uploads/2015/09/BRITSOC_CMYK.jpeg
END:VEVENT
BEGIN:VEVENT
DTSTART;VALUE=DATE:20170607
DTEND;VALUE=DATE:20170608
DTSTAMP:20260424T220535
CREATED:20170226T201837Z
LAST-MODIFIED:20170226T201837Z
UID:10105-1496793600-1496879999@carajas.org
SUMMARY:Chefia: Reunião
DESCRIPTION:
URL:https://carajas.org/evento/chefia-reuniao-7/
ATTACH;FMTTYPE=image/png:https://carajas.org/wp-content/uploads/2015/09/eventos-default.png
END:VEVENT
BEGIN:VEVENT
DTSTART;VALUE=DATE:20170528
DTEND;VALUE=DATE:20170529
DTSTAMP:20260424T220535
CREATED:20170226T193702Z
LAST-MODIFIED:20170523T131145Z
UID:10065-1495929600-1496015999@carajas.org
SUMMARY:Momento Carajás: Atividades e Workshops
DESCRIPTION:
URL:https://carajas.org/evento/momento-carajas-atividades-e-workshops/
ATTACH;FMTTYPE=image/jpeg:https://carajas.org/wp-content/uploads/2017/02/flyer_atividade28maio_4.jpg
END:VEVENT
BEGIN:VEVENT
DTSTART;VALUE=DATE:20170506
DTEND;VALUE=DATE:20170507
DTSTAMP:20260424T220535
CREATED:20170426T001144Z
LAST-MODIFIED:20170426T001144Z
UID:10575-1494028800-1494115199@carajas.org
SUMMARY:Cubs: Reunião Conjunta com o GESP
DESCRIPTION:
URL:https://carajas.org/evento/cubs-reuniao-conjunta-com-o-gesp/
ATTACH;FMTTYPE=image/jpeg:https://carajas.org/wp-content/uploads/2017/04/SP1.jpg
END:VEVENT
BEGIN:VEVENT
DTSTART;VALUE=DATE:20170506
DTEND;VALUE=DATE:20170507
DTSTAMP:20260424T220535
CREATED:20170226T193200Z
LAST-MODIFIED:20170226T193200Z
UID:10063-1494028800-1494115199@carajas.org
SUMMARY:Cubs: British Legion Churrasco
DESCRIPTION:
URL:https://carajas.org/evento/cubs-british-legion-churrasco/
ATTACH;FMTTYPE=image/png:https://carajas.org/wp-content/uploads/2017/02/Screen-Shot-2017-02-26-at-16.29.10.png
END:VEVENT
BEGIN:VEVENT
DTSTART;VALUE=DATE:20170503
DTEND;VALUE=DATE:20170504
DTSTAMP:20260424T220535
CREATED:20170226T201752Z
LAST-MODIFIED:20170226T201752Z
UID:10104-1493769600-1493855999@carajas.org
SUMMARY:Chefia: Reunião
DESCRIPTION:
URL:https://carajas.org/evento/chefia-reuniao-6/
ATTACH;FMTTYPE=image/png:https://carajas.org/wp-content/uploads/2015/09/eventos-default.png
END:VEVENT
BEGIN:VEVENT
DTSTART;VALUE=DATE:20170429
DTEND;VALUE=DATE:20170502
DTSTAMP:20260424T220535
CREATED:20170226T192845Z
LAST-MODIFIED:20170426T000949Z
UID:10062-1493424000-1493683199@carajas.org
SUMMARY:Seniors: Camp
DESCRIPTION:
URL:https://carajas.org/evento/seniors-camp-3/
ATTACH;FMTTYPE=image/png:https://carajas.org/wp-content/uploads/2015/09/eventos-default.png
END:VEVENT
BEGIN:VEVENT
DTSTART;VALUE=DATE:20170413
DTEND;VALUE=DATE:20170417
DTSTAMP:20260424T220535
CREATED:20170226T191330Z
LAST-MODIFIED:20170226T191330Z
UID:10061-1492041600-1492387199@carajas.org
SUMMARY:Scouts: Easter Camp
DESCRIPTION:
URL:https://carajas.org/evento/scouts-easter-camp-2/
ATTACH;FMTTYPE=image/png:https://carajas.org/wp-content/uploads/2015/09/eventos-default.png
END:VEVENT
BEGIN:VEVENT
DTSTART;VALUE=DATE:20170413
DTEND;VALUE=DATE:20170417
DTSTAMP:20260424T220535
CREATED:20170226T191217Z
LAST-MODIFIED:20170226T191253Z
UID:10060-1492041600-1492387199@carajas.org
SUMMARY:Scoutas: Easter Camp
DESCRIPTION:
URL:https://carajas.org/evento/scoutas-easter-camp/
ATTACH;FMTTYPE=image/png:https://carajas.org/wp-content/uploads/2015/09/eventos-default.png
END:VEVENT
BEGIN:VEVENT
DTSTART;VALUE=DATE:20170409
DTEND;VALUE=DATE:20170410
DTSTAMP:20260424T220535
CREATED:20170302T000208Z
LAST-MODIFIED:20170302T000208Z
UID:10110-1491696000-1491782399@carajas.org
SUMMARY:Seniors: Atividade Pré Caralipso
DESCRIPTION:
URL:https://carajas.org/evento/seniors-atividade-pre-caralipso/
ATTACH;FMTTYPE=image/png:https://carajas.org/wp-content/uploads/2015/09/eventos-default.png
END:VEVENT
BEGIN:VEVENT
DTSTART;VALUE=DATE:20170408
DTEND;VALUE=DATE:20170409
DTSTAMP:20260424T220535
CREATED:20170226T191016Z
LAST-MODIFIED:20170226T191016Z
UID:10058-1491609600-1491695999@carajas.org
SUMMARY:Cubs: Outing no Parque da Cantareira
DESCRIPTION:
URL:https://carajas.org/evento/cubs-outing-no-parque-da-cantareira/
ATTACH;FMTTYPE=image/png:https://carajas.org/wp-content/uploads/2017/02/Screen-Shot-2017-02-26-at-16.08.22.png
END:VEVENT
BEGIN:VEVENT
DTSTART;VALUE=DATE:20170405
DTEND;VALUE=DATE:20170406
DTSTAMP:20260424T220535
CREATED:20170226T201710Z
LAST-MODIFIED:20170226T201710Z
UID:10103-1491350400-1491436799@carajas.org
SUMMARY:Chefia: Reunião
DESCRIPTION:
URL:https://carajas.org/evento/chefia-reuniao-5/
ATTACH;FMTTYPE=image/png:https://carajas.org/wp-content/uploads/2015/09/eventos-default.png
END:VEVENT
BEGIN:VEVENT
DTSTART;VALUE=DATE:20170402
DTEND;VALUE=DATE:20170403
DTSTAMP:20260424T220535
CREATED:20170304T164547Z
LAST-MODIFIED:20170328T005038Z
UID:10112-1491091200-1491177599@carajas.org
SUMMARY:Rovers: Escalada
DESCRIPTION:
URL:https://carajas.org/evento/rovers-escalada-2/
ATTACH;FMTTYPE=image/jpeg:https://carajas.org/wp-content/uploads/2017/03/2016.06.2_RoversEscalada_48.jpg
END:VEVENT
BEGIN:VEVENT
DTSTART;VALUE=DATE:20170331
DTEND;VALUE=DATE:20170401
DTSTAMP:20260424T220535
CREATED:20170226T190745Z
LAST-MODIFIED:20170226T190745Z
UID:10057-1490918400-1491004799@carajas.org
SUMMARY:Deadline: Pagamentos de Contribuições
DESCRIPTION:
URL:https://carajas.org/evento/deadline-pagamentos-de-contribuicoes/
ATTACH;FMTTYPE=image/png:https://carajas.org/wp-content/uploads/2015/09/eventos-default.png
END:VEVENT
BEGIN:VEVENT
DTSTART;VALUE=DATE:20170312
DTEND;VALUE=DATE:20170313
DTSTAMP:20260424T220535
CREATED:20170301T235930Z
LAST-MODIFIED:20170309T142806Z
UID:10109-1489276800-1489363199@carajas.org
SUMMARY:Seniors: MasterChef
DESCRIPTION:
URL:https://carajas.org/evento/seniors-masterchef/
ATTACH;FMTTYPE=image/png:https://carajas.org/wp-content/uploads/2017/03/Master-Chef-Junior-e1450974095847.png
END:VEVENT
BEGIN:VEVENT
DTSTART;VALUE=DATE:20170310
DTEND;VALUE=DATE:20170311
DTSTAMP:20260424T220535
CREATED:20170226T190234Z
LAST-MODIFIED:20170226T190234Z
UID:10056-1489104000-1489190399@carajas.org
SUMMARY:Cubs: Reunião de Pais
DESCRIPTION:
URL:https://carajas.org/evento/cubs-reuniao-de-pais-3/
ATTACH;FMTTYPE=image/png:https://carajas.org/wp-content/uploads/2015/09/eventos-default.png
END:VEVENT
BEGIN:VEVENT
DTSTART;VALUE=DATE:20170308
DTEND;VALUE=DATE:20170309
DTSTAMP:20260424T220535
CREATED:20170226T201628Z
LAST-MODIFIED:20170226T201628Z
UID:10102-1488931200-1489017599@carajas.org
SUMMARY:Chefia: Reunião
DESCRIPTION:
URL:https://carajas.org/evento/chefia-reuniao-4/
ATTACH;FMTTYPE=image/png:https://carajas.org/wp-content/uploads/2015/09/eventos-default.png
END:VEVENT
BEGIN:VEVENT
DTSTART;VALUE=DATE:20170224
DTEND;VALUE=DATE:20170301
DTSTAMP:20260424T220535
CREATED:20170215T221022Z
LAST-MODIFIED:20170226T202233Z
UID:10053-1487894400-1488326399@carajas.org
SUMMARY:CARNAVAL: Não tem atividades
DESCRIPTION:
URL:https://carajas.org/evento/carnaval-nao-tem-atividades/
ATTACH;FMTTYPE=image/png:https://carajas.org/wp-content/uploads/2017/02/Screen-Shot-2017-02-26-at-17.22.00.png
END:VEVENT
BEGIN:VEVENT
DTSTART;VALUE=DATE:20170221
DTEND;VALUE=DATE:20170222
DTSTAMP:20260424T220535
CREATED:20170215T220905Z
LAST-MODIFIED:20170215T220905Z
UID:10052-1487635200-1487721599@carajas.org
SUMMARY:Scoutas: Reunião de Pais
DESCRIPTION:
URL:https://carajas.org/evento/scoutas-reuniao-de-pais-2/
ATTACH;FMTTYPE=image/png:https://carajas.org/wp-content/uploads/2015/09/eventos-default.png
END:VEVENT
BEGIN:VEVENT
DTSTART;VALUE=DATE:20170220
DTEND;VALUE=DATE:20170221
DTSTAMP:20260424T220535
CREATED:20170215T220807Z
LAST-MODIFIED:20170215T220807Z
UID:10051-1487548800-1487635199@carajas.org
SUMMARY:Scouts: Reunião de Pais
DESCRIPTION:
URL:https://carajas.org/evento/scouts-reuniao-de-pais-3/
ATTACH;FMTTYPE=image/png:https://carajas.org/wp-content/uploads/2015/09/eventos-default.png
END:VEVENT
BEGIN:VEVENT
DTSTART;VALUE=DATE:20170219
DTEND;VALUE=DATE:20170220
DTSTAMP:20260424T220535
CREATED:20170215T220526Z
LAST-MODIFIED:20170215T220526Z
UID:10049-1487462400-1487548799@carajas.org
SUMMARY:Field Day & Going-Up & AGO
DESCRIPTION:
URL:https://carajas.org/evento/field-day-going-up-ago/
ATTACH;FMTTYPE=image/png:https://carajas.org/wp-content/uploads/2015/09/eventos-default.png
END:VEVENT
BEGIN:VEVENT
DTSTART;VALUE=DATE:20170210
DTEND;VALUE=DATE:20170211
DTSTAMP:20260424T220535
CREATED:20161224T003633Z
LAST-MODIFIED:20161224T003633Z
UID:10042-1486684800-1486771199@carajas.org
SUMMARY:Cubs: Início das Atividades
DESCRIPTION:
URL:https://carajas.org/evento/cubs-inicio-das-atividades/
ATTACH;FMTTYPE=image/png:https://carajas.org/wp-content/uploads/2015/09/eventos-default.png
END:VEVENT
BEGIN:VEVENT
DTSTART;VALUE=DATE:20170208
DTEND;VALUE=DATE:20170209
DTSTAMP:20260424T220535
CREATED:20170215T220708Z
LAST-MODIFIED:20170215T220708Z
UID:10050-1486512000-1486598399@carajas.org
SUMMARY:Trilha Escoteira
DESCRIPTION:
URL:https://carajas.org/evento/trilha-escoteira/
ATTACH;FMTTYPE=image/png:https://carajas.org/wp-content/uploads/2015/09/eventos-default.png
END:VEVENT
BEGIN:VEVENT
DTSTART;VALUE=DATE:20170207
DTEND;VALUE=DATE:20170208
DTSTAMP:20260424T220535
CREATED:20161224T003815Z
LAST-MODIFIED:20161224T003815Z
UID:10044-1486425600-1486511999@carajas.org
SUMMARY:Scoutas: Início das Atividades
DESCRIPTION:
URL:https://carajas.org/evento/scoutas-inicio-das-atividades/
ATTACH;FMTTYPE=image/png:https://carajas.org/wp-content/uploads/2015/09/eventos-default.png
END:VEVENT
BEGIN:VEVENT
DTSTART;VALUE=DATE:20170206
DTEND;VALUE=DATE:20170207
DTSTAMP:20260424T220535
CREATED:20161224T003726Z
LAST-MODIFIED:20161224T003726Z
UID:10043-1486339200-1486425599@carajas.org
SUMMARY:Scouts: Início das Atividades
DESCRIPTION:
URL:https://carajas.org/evento/scouts-inicio-das-atividades/
ATTACH;FMTTYPE=image/png:https://carajas.org/wp-content/uploads/2015/09/eventos-default.png
END:VEVENT
BEGIN:VEVENT
DTSTART;VALUE=DATE:20170205
DTEND;VALUE=DATE:20170206
DTSTAMP:20260424T220535
CREATED:20170226T190026Z
LAST-MODIFIED:20170226T190026Z
UID:10055-1486252800-1486339199@carajas.org
SUMMARY:Scouts & Scoutas: Workshop Barraca Iglu
DESCRIPTION:
URL:https://carajas.org/evento/scouts-scoutas-workshop-barraca-iglu/
ATTACH;FMTTYPE=image/png:https://carajas.org/wp-content/uploads/2015/09/eventos-default.png
END:VEVENT
BEGIN:VEVENT
DTSTART;VALUE=DATE:20170128
DTEND;VALUE=DATE:20170130
DTSTAMP:20260424T220535
CREATED:20161224T003920Z
LAST-MODIFIED:20161224T003920Z
UID:10045-1485561600-1485734399@carajas.org
SUMMARY:Chefia: Indaba
DESCRIPTION:
URL:https://carajas.org/evento/chefia-indaba/
ATTACH;FMTTYPE=image/png:https://carajas.org/wp-content/uploads/2015/09/eventos-default.png
END:VEVENT
BEGIN:VEVENT
DTSTART;VALUE=DATE:20161227
DTEND;VALUE=DATE:20170103
DTSTAMP:20260424T220535
CREATED:20160811T024609Z
LAST-MODIFIED:20160811T024609Z
UID:9294-1482796800-1483401599@carajas.org
SUMMARY:JamCam Equador
DESCRIPTION:
URL:https://carajas.org/evento/jamcam-equador/
ATTACH;FMTTYPE=image/jpeg:https://carajas.org/wp-content/uploads/2016/08/b-brgks6.jpg
END:VEVENT
END:VCALENDAR