BEGIN:VCALENDAR
VERSION:2.0
PRODID:-// - ECPv6.9.0//NONSGML v1.0//EN
CALSCALE:GREGORIAN
METHOD:PUBLISH
X-ORIGINAL-URL:https://carajas.org
X-WR-CALDESC:Eventos para 
REFRESH-INTERVAL;VALUE=DURATION:PT1H
X-Robots-Tag:noindex
X-PUBLISHED-TTL:PT1H
BEGIN:VTIMEZONE
TZID:UTC
BEGIN:STANDARD
TZOFFSETFROM:+0000
TZOFFSETTO:+0000
TZNAME:UTC
DTSTART:20170101T000000
END:STANDARD
END:VTIMEZONE
BEGIN:VEVENT
DTSTART;VALUE=DATE:20171102
DTEND;VALUE=DATE:20171106
DTSTAMP:20260424T192627
CREATED:20170226T200814Z
LAST-MODIFIED:20170226T200814Z
UID:10094-1509580800-1509926399@carajas.org
SUMMARY:Cubs: Camp
DESCRIPTION:
URL:https://carajas.org/evento/cubs-camp-3/
ATTACH;FMTTYPE=image/png:https://carajas.org/wp-content/uploads/2015/09/eventos-default.png
END:VEVENT
BEGIN:VEVENT
DTSTART;VALUE=DATE:20171012
DTEND;VALUE=DATE:20171016
DTSTAMP:20260424T192627
CREATED:20170226T200708Z
LAST-MODIFIED:20170226T200708Z
UID:10093-1507766400-1508111999@carajas.org
SUMMARY:Seniors: Camp
DESCRIPTION:
URL:https://carajas.org/evento/seniors-camp-4/
ATTACH;FMTTYPE=image/png:https://carajas.org/wp-content/uploads/2015/09/eventos-default.png
END:VEVENT
BEGIN:VEVENT
DTSTART;VALUE=DATE:20171008
DTEND;VALUE=DATE:20171009
DTSTAMP:20260424T192627
CREATED:20170226T200612Z
LAST-MODIFIED:20170226T200612Z
UID:10090-1507420800-1507507199@carajas.org
SUMMARY:Olimpiádas SPYC
DESCRIPTION:
URL:https://carajas.org/evento/olimpiadas-spyc-2/
ATTACH;FMTTYPE=image/png:https://carajas.org/wp-content/uploads/2017/02/Screen-Shot-2017-02-26-at-17.05.37.png
END:VEVENT
BEGIN:VEVENT
DTSTART;VALUE=DATE:20171007
DTEND;VALUE=DATE:20171008
DTSTAMP:20260424T192627
CREATED:20170226T200232Z
LAST-MODIFIED:20170916T190043Z
UID:10088-1507334400-1507420799@carajas.org
SUMMARY:Scouts e Scoutas: British Legion Churrasco
DESCRIPTION:
URL:https://carajas.org/evento/scouts-e-scoutas-british-legion-churrasco/
ATTACH;FMTTYPE=image/png:https://carajas.org/wp-content/uploads/2017/02/Screen-Shot-2017-02-26-at-16.29.10.png
END:VEVENT
BEGIN:VEVENT
DTSTART;VALUE=DATE:20171004
DTEND;VALUE=DATE:20171005
DTSTAMP:20260424T192627
CREATED:20170226T200335Z
LAST-MODIFIED:20170226T200335Z
UID:10089-1507075200-1507161599@carajas.org
SUMMARY:Chefia: Reunião
DESCRIPTION:
URL:https://carajas.org/evento/chefia-reuniao-2/
ATTACH;FMTTYPE=image/png:https://carajas.org/wp-content/uploads/2015/09/eventos-default.png
END:VEVENT
BEGIN:VEVENT
DTSTART;VALUE=DATE:20170930
DTEND;VALUE=DATE:20171001
DTSTAMP:20260424T192627
CREATED:20170902T191442Z
LAST-MODIFIED:20170902T191442Z
UID:12839-1506729600-1506815999@carajas.org
SUMMARY:Cubs: GP Rolimã
DESCRIPTION:
URL:https://carajas.org/evento/cubs-gp-rolima/
ATTACH;FMTTYPE=image/png:https://carajas.org/wp-content/uploads/2015/09/eventos-default.png
END:VEVENT
BEGIN:VEVENT
DTSTART;VALUE=DATE:20170923
DTEND;VALUE=DATE:20170924
DTSTAMP:20260424T192627
CREATED:20170226T200057Z
LAST-MODIFIED:20170826T171314Z
UID:10087-1506124800-1506211199@carajas.org
SUMMARY:DINNER - 92 Anos de Carajás
DESCRIPTION:
URL:https://carajas.org/evento/dinner-92-anos-de-carajas/
ATTACH;FMTTYPE=image/jpeg:https://carajas.org/wp-content/uploads/2017/04/dinner_savethedate_2.jpg
END:VEVENT
BEGIN:VEVENT
DTSTART;VALUE=DATE:20170906
DTEND;VALUE=DATE:20170911
DTSTAMP:20260424T192627
CREATED:20170226T195910Z
LAST-MODIFIED:20170226T195910Z
UID:10085-1504656000-1505087999@carajas.org
SUMMARY:Scoutas: Primavera Camp
DESCRIPTION:
URL:https://carajas.org/evento/scoutas-primavera-camp/
ATTACH;FMTTYPE=image/png:https://carajas.org/wp-content/uploads/2015/09/eventos-default.png
END:VEVENT
BEGIN:VEVENT
DTSTART;VALUE=DATE:20170819
DTEND;VALUE=DATE:20170820
DTSTAMP:20260424T192627
CREATED:20170226T195506Z
LAST-MODIFIED:20170226T195506Z
UID:10081-1503100800-1503187199@carajas.org
SUMMARY:Pet Show
DESCRIPTION:
URL:https://carajas.org/evento/pet-show-2/
ATTACH;FMTTYPE=image/jpeg:https://carajas.org/wp-content/uploads/2017/02/2016.PetShow_12.jpg
END:VEVENT
BEGIN:VEVENT
DTSTART;VALUE=DATE:20170819
DTEND;VALUE=DATE:20170820
DTSTAMP:20260424T192627
CREATED:20170226T195301Z
LAST-MODIFIED:20170714T153321Z
UID:10080-1503100800-1503187199@carajas.org
SUMMARY:Cubs Ganges: Início
DESCRIPTION:
URL:https://carajas.org/evento/cubs-ganges-inicio/
ATTACH;FMTTYPE=image/png:https://carajas.org/wp-content/uploads/2015/09/eventos-default.png
END:VEVENT
BEGIN:VEVENT
DTSTART;VALUE=DATE:20170813
DTEND;VALUE=DATE:20170814
DTSTAMP:20260424T192627
CREATED:20170226T195214Z
LAST-MODIFIED:20170727T022937Z
UID:10079-1502582400-1502668799@carajas.org
SUMMARY:Going-Up
DESCRIPTION:
URL:https://carajas.org/evento/going-up-2/
ATTACH;FMTTYPE=image/png:https://carajas.org/wp-content/uploads/2015/09/eventos-default.png
END:VEVENT
BEGIN:VEVENT
DTSTART;VALUE=DATE:20170812
DTEND;VALUE=DATE:20170813
DTSTAMP:20260424T192627
CREATED:20170727T023724Z
LAST-MODIFIED:20170727T023724Z
UID:12800-1502496000-1502582399@carajas.org
SUMMARY:British Cars Show
DESCRIPTION:
URL:https://carajas.org/evento/british-cars-show/
ATTACH;FMTTYPE=image/jpeg:https://carajas.org/wp-content/uploads/2017/07/19420840_109345379689471_932796481164136975_n.jpg
END:VEVENT
BEGIN:VEVENT
DTSTART;VALUE=DATE:20170806
DTEND;VALUE=DATE:20170807
DTSTAMP:20260424T192627
CREATED:20170226T195126Z
LAST-MODIFIED:20170727T023025Z
UID:10078-1501977600-1502063999@carajas.org
SUMMARY:Chefia: Indabinha
DESCRIPTION:
URL:https://carajas.org/evento/chefia-indabinha/
ATTACH;FMTTYPE=image/png:https://carajas.org/wp-content/uploads/2015/09/eventos-default.png
END:VEVENT
BEGIN:VEVENT
DTSTART;VALUE=DATE:20170804
DTEND;VALUE=DATE:20170805
DTSTAMP:20260424T192627
CREATED:20170226T195037Z
LAST-MODIFIED:20170226T195037Z
UID:10077-1501804800-1501891199@carajas.org
SUMMARY:Cubs Tawi: Início
DESCRIPTION:
URL:https://carajas.org/evento/cubs-tawi-inicio/
ATTACH;FMTTYPE=image/png:https://carajas.org/wp-content/uploads/2015/09/eventos-default.png
END:VEVENT
BEGIN:VEVENT
DTSTART;VALUE=DATE:20170725
DTEND;VALUE=DATE:20170803
DTSTAMP:20260424T192627
CREATED:20170226T194853Z
LAST-MODIFIED:20170226T194853Z
UID:10075-1500940800-1501718399@carajas.org
SUMMARY:Rover Moot Islândia
DESCRIPTION:
URL:https://carajas.org/evento/rover-moot-islandia/
ATTACH;FMTTYPE=image/png:https://carajas.org/wp-content/uploads/2017/02/Screen-Shot-2017-02-26-at-16.47.27.png
END:VEVENT
BEGIN:VEVENT
DTSTART;VALUE=DATE:20170707
DTEND;VALUE=DATE:20170710
DTSTAMP:20260424T192627
CREATED:20170608T043521Z
LAST-MODIFIED:20170608T043521Z
UID:11398-1499385600-1499644799@carajas.org
SUMMARY:Old Carajás - Campsite Ubatuba: Camp + Jubiree
DESCRIPTION:
URL:https://carajas.org/evento/old-carajas-campsite-ubatuba-camp-jubiree/
ATTACH;FMTTYPE=image/png:https://carajas.org/wp-content/uploads/2015/09/eventos-default.png
END:VEVENT
BEGIN:VEVENT
DTSTART;VALUE=DATE:20170707
DTEND;VALUE=DATE:20170710
DTSTAMP:20260424T192627
CREATED:20170226T193928Z
LAST-MODIFIED:20170226T194001Z
UID:10067-1499385600-1499644799@carajas.org
SUMMARY:JUBIREE - 92 Anos de Carajás
DESCRIPTION:
URL:https://carajas.org/evento/jubiree-92-anos-de-carajas/
ATTACH;FMTTYPE=image/png:https://carajas.org/wp-content/uploads/2017/02/Identidade-Visual-Jubiree_cs4-03.png
END:VEVENT
BEGIN:VEVENT
DTSTART;VALUE=DATE:20170706
DTEND;VALUE=DATE:20170710
DTSTAMP:20260424T192627
CREATED:20170226T194614Z
LAST-MODIFIED:20170608T043359Z
UID:10074-1499299200-1499644799@carajas.org
SUMMARY:Old Carajás - Campsite Itararé: Camp + Jubiree
DESCRIPTION:
URL:https://carajas.org/evento/old-carajas-campsite-itarare-camp-jubiree/
ATTACH;FMTTYPE=image/png:https://carajas.org/wp-content/uploads/2015/09/eventos-default.png
END:VEVENT
BEGIN:VEVENT
DTSTART;VALUE=DATE:20170706
DTEND;VALUE=DATE:20170710
DTSTAMP:20260424T192627
CREATED:20170226T194523Z
LAST-MODIFIED:20170226T194523Z
UID:10073-1499299200-1499644799@carajas.org
SUMMARY:Rovers: Camp + Jubiree
DESCRIPTION:
URL:https://carajas.org/evento/rovers-camp-jubiree/
ATTACH;FMTTYPE=image/png:https://carajas.org/wp-content/uploads/2015/09/eventos-default.png
END:VEVENT
BEGIN:VEVENT
DTSTART;VALUE=DATE:20170706
DTEND;VALUE=DATE:20170710
DTSTAMP:20260424T192627
CREATED:20170226T194442Z
LAST-MODIFIED:20170226T194442Z
UID:10072-1499299200-1499644799@carajas.org
SUMMARY:Cubs: Camp + Jubiree
DESCRIPTION:
URL:https://carajas.org/evento/cubs-camp-jubiree/
ATTACH;FMTTYPE=image/png:https://carajas.org/wp-content/uploads/2015/09/eventos-default.png
END:VEVENT
BEGIN:VEVENT
DTSTART;VALUE=DATE:20170702
DTEND;VALUE=DATE:20170711
DTSTAMP:20260424T192627
CREATED:20170226T194110Z
LAST-MODIFIED:20170226T194358Z
UID:10069-1498953600-1499731199@carajas.org
SUMMARY:Scouts e Scoutas: July Camp + Jubiree
DESCRIPTION:
URL:https://carajas.org/evento/scouts-july-camp-jubiree/
ATTACH;FMTTYPE=image/png:https://carajas.org/wp-content/uploads/2015/09/eventos-default.png
END:VEVENT
BEGIN:VEVENT
DTSTART;VALUE=DATE:20170625
DTEND;VALUE=DATE:20170626
DTSTAMP:20260424T192627
CREATED:20170523T200404Z
LAST-MODIFIED:20170523T200404Z
UID:11394-1498348800-1498435199@carajas.org
SUMMARY:Scouts e Scoutas: Highland Games
DESCRIPTION:
URL:https://carajas.org/evento/scouts-e-scoutas-highland-games/
ATTACH;FMTTYPE=image/jpeg:https://carajas.org/wp-content/uploads/2017/05/18519558_1384798858266426_4303345086154612294_n.jpg
END:VEVENT
BEGIN:VEVENT
DTSTART;VALUE=DATE:20170620
DTEND;VALUE=DATE:20170621
DTSTAMP:20260424T192627
CREATED:20170306T115828Z
LAST-MODIFIED:20170306T115828Z
UID:10115-1497916800-1498003199@carajas.org
SUMMARY:Queen's Birthday
DESCRIPTION:
URL:https://carajas.org/evento/queens-birthday-2/
ATTACH;FMTTYPE=image/jpeg:https://carajas.org/wp-content/uploads/2015/09/BRITSOC_CMYK.jpeg
END:VEVENT
BEGIN:VEVENT
DTSTART;VALUE=DATE:20170607
DTEND;VALUE=DATE:20170608
DTSTAMP:20260424T192627
CREATED:20170226T201837Z
LAST-MODIFIED:20170226T201837Z
UID:10105-1496793600-1496879999@carajas.org
SUMMARY:Chefia: Reunião
DESCRIPTION:
URL:https://carajas.org/evento/chefia-reuniao-7/
ATTACH;FMTTYPE=image/png:https://carajas.org/wp-content/uploads/2015/09/eventos-default.png
END:VEVENT
BEGIN:VEVENT
DTSTART;VALUE=DATE:20170528
DTEND;VALUE=DATE:20170529
DTSTAMP:20260424T192627
CREATED:20170226T193702Z
LAST-MODIFIED:20170523T131145Z
UID:10065-1495929600-1496015999@carajas.org
SUMMARY:Momento Carajás: Atividades e Workshops
DESCRIPTION:
URL:https://carajas.org/evento/momento-carajas-atividades-e-workshops/
ATTACH;FMTTYPE=image/jpeg:https://carajas.org/wp-content/uploads/2017/02/flyer_atividade28maio_4.jpg
END:VEVENT
BEGIN:VEVENT
DTSTART;VALUE=DATE:20170506
DTEND;VALUE=DATE:20170507
DTSTAMP:20260424T192627
CREATED:20170426T001144Z
LAST-MODIFIED:20170426T001144Z
UID:10575-1494028800-1494115199@carajas.org
SUMMARY:Cubs: Reunião Conjunta com o GESP
DESCRIPTION:
URL:https://carajas.org/evento/cubs-reuniao-conjunta-com-o-gesp/
ATTACH;FMTTYPE=image/jpeg:https://carajas.org/wp-content/uploads/2017/04/SP1.jpg
END:VEVENT
BEGIN:VEVENT
DTSTART;VALUE=DATE:20170506
DTEND;VALUE=DATE:20170507
DTSTAMP:20260424T192627
CREATED:20170226T193200Z
LAST-MODIFIED:20170226T193200Z
UID:10063-1494028800-1494115199@carajas.org
SUMMARY:Cubs: British Legion Churrasco
DESCRIPTION:
URL:https://carajas.org/evento/cubs-british-legion-churrasco/
ATTACH;FMTTYPE=image/png:https://carajas.org/wp-content/uploads/2017/02/Screen-Shot-2017-02-26-at-16.29.10.png
END:VEVENT
BEGIN:VEVENT
DTSTART;VALUE=DATE:20170503
DTEND;VALUE=DATE:20170504
DTSTAMP:20260424T192627
CREATED:20170226T201752Z
LAST-MODIFIED:20170226T201752Z
UID:10104-1493769600-1493855999@carajas.org
SUMMARY:Chefia: Reunião
DESCRIPTION:
URL:https://carajas.org/evento/chefia-reuniao-6/
ATTACH;FMTTYPE=image/png:https://carajas.org/wp-content/uploads/2015/09/eventos-default.png
END:VEVENT
BEGIN:VEVENT
DTSTART;VALUE=DATE:20170429
DTEND;VALUE=DATE:20170502
DTSTAMP:20260424T192627
CREATED:20170226T192845Z
LAST-MODIFIED:20170426T000949Z
UID:10062-1493424000-1493683199@carajas.org
SUMMARY:Seniors: Camp
DESCRIPTION:
URL:https://carajas.org/evento/seniors-camp-3/
ATTACH;FMTTYPE=image/png:https://carajas.org/wp-content/uploads/2015/09/eventos-default.png
END:VEVENT
BEGIN:VEVENT
DTSTART;VALUE=DATE:20170413
DTEND;VALUE=DATE:20170417
DTSTAMP:20260424T192627
CREATED:20170226T191330Z
LAST-MODIFIED:20170226T191330Z
UID:10061-1492041600-1492387199@carajas.org
SUMMARY:Scouts: Easter Camp
DESCRIPTION:
URL:https://carajas.org/evento/scouts-easter-camp-2/
ATTACH;FMTTYPE=image/png:https://carajas.org/wp-content/uploads/2015/09/eventos-default.png
END:VEVENT
END:VCALENDAR