BEGIN:VCALENDAR
VERSION:2.0
PRODID:-// - ECPv6.9.0//NONSGML v1.0//EN
CALSCALE:GREGORIAN
METHOD:PUBLISH
X-ORIGINAL-URL:https://carajas.org
X-WR-CALDESC:Eventos para 
REFRESH-INTERVAL;VALUE=DURATION:PT1H
X-Robots-Tag:noindex
X-PUBLISHED-TTL:PT1H
BEGIN:VTIMEZONE
TZID:UTC
BEGIN:STANDARD
TZOFFSETFROM:+0000
TZOFFSETTO:+0000
TZNAME:UTC
DTSTART:20180101T000000
END:STANDARD
END:VTIMEZONE
BEGIN:VEVENT
DTSTART;VALUE=DATE:20200321
DTEND;VALUE=DATE:20200322
DTSTAMP:20260424T030716
CREATED:20200226T190101Z
LAST-MODIFIED:20200226T190101Z
UID:16773-1584748800-1584835199@carajas.org
SUMMARY:Soft Opening & Going-Up
DESCRIPTION:
URL:https://carajas.org/evento/soft-opening-going-up/
ATTACH;FMTTYPE=image/jpeg:https://carajas.org/wp-content/uploads/2020/02/Carajas_LogoVertical_LowRes.jpg
END:VEVENT
BEGIN:VEVENT
DTSTART;VALUE=DATE:20200307
DTEND;VALUE=DATE:20200308
DTSTAMP:20260424T030716
CREATED:20200226T185833Z
LAST-MODIFIED:20200226T185833Z
UID:16767-1583539200-1583625599@carajas.org
SUMMARY:Cubs Ganges: Início das Atividades
DESCRIPTION:
URL:https://carajas.org/evento/cubs-ganges-inicio-das-atividades/
ATTACH;FMTTYPE=image/jpeg:https://carajas.org/wp-content/uploads/2020/02/Carajas_LogoVertical_LowRes.jpg
END:VEVENT
BEGIN:VEVENT
DTSTART;VALUE=DATE:20200305
DTEND;VALUE=DATE:20200306
DTSTAMP:20260424T030716
CREATED:20200226T190016Z
LAST-MODIFIED:20200226T190016Z
UID:16771-1583366400-1583452799@carajas.org
SUMMARY:Scoutas: Início das Atividades
DESCRIPTION:
URL:https://carajas.org/evento/scoutas-inicio-das-atividades-2/
ATTACH;FMTTYPE=image/jpeg:https://carajas.org/wp-content/uploads/2020/02/Carajas_LogoVertical_LowRes.jpg
END:VEVENT
BEGIN:VEVENT
DTSTART;VALUE=DATE:20200304
DTEND;VALUE=DATE:20200305
DTSTAMP:20260424T030716
CREATED:20200226T185922Z
LAST-MODIFIED:20200226T185922Z
UID:16769-1583280000-1583366399@carajas.org
SUMMARY:Scouts: Início das Atividades
DESCRIPTION:
URL:https://carajas.org/evento/scouts-inicio-das-atividades-2/
ATTACH;FMTTYPE=image/jpeg:https://carajas.org/wp-content/uploads/2020/02/Carajas_LogoVertical_LowRes.jpg
END:VEVENT
BEGIN:VEVENT
DTSTART;VALUE=DATE:20200228
DTEND;VALUE=DATE:20200229
DTSTAMP:20260424T030716
CREATED:20200226T185029Z
LAST-MODIFIED:20200226T185333Z
UID:16758-1582848000-1582934399@carajas.org
SUMMARY:Cubs Tawi: Início das Atividades
DESCRIPTION:
URL:https://carajas.org/evento/cubs-tawi-inicio-das-atividades/
ATTACH;FMTTYPE=image/jpeg:https://carajas.org/wp-content/uploads/2020/02/Carajas_LogoVertical_LowRes.jpg
END:VEVENT
BEGIN:VEVENT
DTSTART;VALUE=DATE:20191207
DTEND;VALUE=DATE:20191208
DTSTAMP:20260424T030716
CREATED:20190316T231837Z
LAST-MODIFIED:20190316T231837Z
UID:15379-1575676800-1575763199@carajas.org
SUMMARY:Seniors: Regata Evrill-Moore
DESCRIPTION:
URL:https://carajas.org/evento/seniors-regata-evrill-moore-2-2/
ATTACH;FMTTYPE=image/png:https://carajas.org/wp-content/uploads/2018/03/evento_spyc.png
END:VEVENT
BEGIN:VEVENT
DTSTART;VALUE=DATE:20191207
DTEND;VALUE=DATE:20191208
DTSTAMP:20260424T030716
CREATED:20190316T231743Z
LAST-MODIFIED:20190316T231743Z
UID:15378-1575676800-1575763199@carajas.org
SUMMARY:Campfire
DESCRIPTION:
URL:https://carajas.org/evento/campfire-4-2/
ATTACH;FMTTYPE=image/png:https://carajas.org/wp-content/uploads/2015/09/eventos-default.png
END:VEVENT
BEGIN:VEVENT
DTSTART;VALUE=DATE:20191115
DTEND;VALUE=DATE:20191118
DTSTAMP:20260424T030716
CREATED:20190317T000702Z
LAST-MODIFIED:20190317T000702Z
UID:15402-1573776000-1574035199@carajas.org
SUMMARY:Cubs: Camp
DESCRIPTION:
URL:https://carajas.org/evento/cubs-camp-6/
ATTACH;FMTTYPE=image/png:https://carajas.org/wp-content/uploads/2015/09/eventos-default.png
END:VEVENT
BEGIN:VEVENT
DTSTART;VALUE=DATE:20191115
DTEND;VALUE=DATE:20191118
DTSTAMP:20260424T030716
CREATED:20190317T000600Z
LAST-MODIFIED:20190317T000600Z
UID:15401-1573776000-1574035199@carajas.org
SUMMARY:Scoutas: Camp
DESCRIPTION:
URL:https://carajas.org/evento/scoutas-camp-7/
ATTACH;FMTTYPE=image/png:https://carajas.org/wp-content/uploads/2015/09/eventos-default.png
END:VEVENT
BEGIN:VEVENT
DTSTART;VALUE=DATE:20191115
DTEND;VALUE=DATE:20191118
DTSTAMP:20260424T030716
CREATED:20190317T000405Z
LAST-MODIFIED:20190317T000405Z
UID:15400-1573776000-1574035199@carajas.org
SUMMARY:Scouts: Camp
DESCRIPTION:
URL:https://carajas.org/evento/scouts-camp-8/
ATTACH;FMTTYPE=image/png:https://carajas.org/wp-content/uploads/2015/09/eventos-default.png
END:VEVENT
BEGIN:VEVENT
DTSTART;VALUE=DATE:20191110
DTEND;VALUE=DATE:20191111
DTSTAMP:20260424T030716
CREATED:20190317T000122Z
LAST-MODIFIED:20190317T000122Z
UID:15399-1573344000-1573430399@carajas.org
SUMMARY:Remembrance Day
DESCRIPTION:
URL:https://carajas.org/evento/remembrance-day/
ATTACH;FMTTYPE=image/png:https://carajas.org/wp-content/uploads/2015/09/eventos-default.png
END:VEVENT
BEGIN:VEVENT
DTSTART;VALUE=DATE:20191020
DTEND;VALUE=DATE:20191021
DTSTAMP:20260424T030716
CREATED:20190316T235633Z
LAST-MODIFIED:20190316T235633Z
UID:15397-1571529600-1571615999@carajas.org
SUMMARY:Rovers: Atividade Social
DESCRIPTION:
URL:https://carajas.org/evento/rovers-atividade-social/
ATTACH;FMTTYPE=image/png:https://carajas.org/wp-content/uploads/2015/09/eventos-default.png
END:VEVENT
BEGIN:VEVENT
DTSTART;VALUE=DATE:20191013
DTEND;VALUE=DATE:20191014
DTSTAMP:20260424T030716
CREATED:20190316T235750Z
LAST-MODIFIED:20190316T235750Z
UID:15398-1570924800-1571011199@carajas.org
SUMMARY:Chefia: Curso Técnicas Verticais
DESCRIPTION:
URL:https://carajas.org/evento/chefia-curso-tecnicas-verticais/
ATTACH;FMTTYPE=image/png:https://carajas.org/wp-content/uploads/2015/09/eventos-default.png
END:VEVENT
BEGIN:VEVENT
DTSTART;VALUE=DATE:20190921
DTEND;VALUE=DATE:20190922
DTSTAMP:20260424T030716
CREATED:20190316T235352Z
LAST-MODIFIED:20190316T235352Z
UID:15395-1569024000-1569110399@carajas.org
SUMMARY:Scouts: Outing MutCom
DESCRIPTION:
URL:https://carajas.org/evento/scouts-outing-mutcom/
ATTACH;FMTTYPE=image/png:https://carajas.org/wp-content/uploads/2015/09/eventos-default.png
END:VEVENT
BEGIN:VEVENT
DTSTART;VALUE=DATE:20190914
DTEND;VALUE=DATE:20190916
DTSTAMP:20260424T030716
CREATED:20190316T235518Z
LAST-MODIFIED:20190316T235518Z
UID:15396-1568419200-1568591999@carajas.org
SUMMARY:Rovers: Camp
DESCRIPTION:
URL:https://carajas.org/evento/rovers-camp-3/
ATTACH;FMTTYPE=image/png:https://carajas.org/wp-content/uploads/2015/09/eventos-default.png
END:VEVENT
BEGIN:VEVENT
DTSTART;VALUE=DATE:20190825
DTEND;VALUE=DATE:20190826
DTSTAMP:20260424T030716
CREATED:20190316T235244Z
LAST-MODIFIED:20190316T235244Z
UID:15394-1566691200-1566777599@carajas.org
SUMMARY:Going-Up
DESCRIPTION:
URL:https://carajas.org/evento/going-up-4/
ATTACH;FMTTYPE=image/png:https://carajas.org/wp-content/uploads/2015/09/eventos-default.png
END:VEVENT
BEGIN:VEVENT
DTSTART;VALUE=DATE:20190817
DTEND;VALUE=DATE:20190818
DTSTAMP:20260424T030716
CREATED:20190316T232613Z
LAST-MODIFIED:20190316T232613Z
UID:15382-1566000000-1566086399@carajas.org
SUMMARY:Rovers: Doação de Sangue
DESCRIPTION:
URL:https://carajas.org/evento/rovers-doacao-de-sangue-4/
ATTACH;FMTTYPE=image/png:https://carajas.org/wp-content/uploads/2015/09/eventos-default.png
END:VEVENT
BEGIN:VEVENT
DTSTART;VALUE=DATE:20190722
DTEND;VALUE=DATE:20190803
DTSTAMP:20260424T030716
CREATED:20180811T002358Z
LAST-MODIFIED:20180811T002358Z
UID:14098-1563753600-1564790399@carajas.org
SUMMARY:Jamboree Mundial - EUA
DESCRIPTION:
URL:https://carajas.org/evento/jamboree-mundial-eua/
ATTACH;FMTTYPE=image/png:https://carajas.org/wp-content/uploads/2018/08/2019WSJLogo.png
END:VEVENT
BEGIN:VEVENT
DTSTART;VALUE=DATE:20190620
DTEND;VALUE=DATE:20190624
DTSTAMP:20260424T030716
CREATED:20190316T234824Z
LAST-MODIFIED:20190316T234824Z
UID:15392-1560988800-1561334399@carajas.org
SUMMARY:Seniors: Camp
DESCRIPTION:
URL:https://carajas.org/evento/seniors-camp-7/
ATTACH;FMTTYPE=image/png:https://carajas.org/wp-content/uploads/2015/09/eventos-default.png
END:VEVENT
BEGIN:VEVENT
DTSTART;VALUE=DATE:20190620
DTEND;VALUE=DATE:20190624
DTSTAMP:20260424T030716
CREATED:20190316T234720Z
LAST-MODIFIED:20190316T234720Z
UID:15391-1560988800-1561334399@carajas.org
SUMMARY:Cubs: Camp
DESCRIPTION:
URL:https://carajas.org/evento/cubs-camp-5/
ATTACH;FMTTYPE=image/png:https://carajas.org/wp-content/uploads/2015/09/eventos-default.png
END:VEVENT
BEGIN:VEVENT
DTSTART;VALUE=DATE:20190608
DTEND;VALUE=DATE:20190610
DTSTAMP:20260424T030716
CREATED:20190316T234456Z
LAST-MODIFIED:20190316T234456Z
UID:15390-1559952000-1560124799@carajas.org
SUMMARY:Jamboree Mundial: Acampamento de Participantes Grupo de Viagem Carajás
DESCRIPTION:
URL:https://carajas.org/evento/jamboree-mundial-acampamento-de-participantes-grupo-de-viagem-carajas/
ATTACH;FMTTYPE=image/png:https://carajas.org/wp-content/uploads/2018/08/2019WSJLogo.png
END:VEVENT
BEGIN:VEVENT
DTSTART;VALUE=DATE:20190519
DTEND;VALUE=DATE:20190520
DTSTAMP:20260424T030716
CREATED:20190316T234300Z
LAST-MODIFIED:20190316T234300Z
UID:15389-1558224000-1558310399@carajas.org
SUMMARY:Chefia: Curso de First-Aid
DESCRIPTION:
URL:https://carajas.org/evento/chefia-curso-de-first-aid/
ATTACH;FMTTYPE=image/png:https://carajas.org/wp-content/uploads/2015/09/eventos-default.png
END:VEVENT
BEGIN:VEVENT
DTSTART;VALUE=DATE:20190504
DTEND;VALUE=DATE:20190506
DTSTAMP:20260424T030716
CREATED:20190316T234045Z
LAST-MODIFIED:20190316T234103Z
UID:15388-1556928000-1557100799@carajas.org
SUMMARY:Scoutas: Camp
DESCRIPTION:
URL:https://carajas.org/evento/scoutas-camp-6/
ATTACH;FMTTYPE=image/png:https://carajas.org/wp-content/uploads/2015/09/eventos-default.png
END:VEVENT
BEGIN:VEVENT
DTSTART;VALUE=DATE:20190501
DTEND;VALUE=DATE:20190502
DTSTAMP:20260424T030716
CREATED:20190316T233736Z
LAST-MODIFIED:20190316T233736Z
UID:15387-1556668800-1556755199@carajas.org
SUMMARY:Cubs: Outing
DESCRIPTION:
URL:https://carajas.org/evento/cubs-outing-2/
ATTACH;FMTTYPE=image/png:https://carajas.org/wp-content/uploads/2015/09/eventos-default.png
END:VEVENT
BEGIN:VEVENT
DTSTART;VALUE=DATE:20190419
DTEND;VALUE=DATE:20190422
DTSTAMP:20260424T030716
CREATED:20190316T233438Z
LAST-MODIFIED:20190316T233438Z
UID:15385-1555632000-1555891199@carajas.org
SUMMARY:Scouts: Camp
DESCRIPTION:
URL:https://carajas.org/evento/scouts-camp-7/
ATTACH;FMTTYPE=image/png:https://carajas.org/wp-content/uploads/2015/09/eventos-default.png
END:VEVENT
BEGIN:VEVENT
DTSTART;VALUE=DATE:20190406
DTEND;VALUE=DATE:20190407
DTSTAMP:20260424T030716
CREATED:20190316T233204Z
LAST-MODIFIED:20190316T233246Z
UID:15384-1554508800-1554595199@carajas.org
SUMMARY:Rovers: Poker Night
DESCRIPTION:
URL:https://carajas.org/evento/rovers-poker-night/
ATTACH;FMTTYPE=image/png:https://carajas.org/wp-content/uploads/2015/09/eventos-default.png
END:VEVENT
BEGIN:VEVENT
DTSTART;VALUE=DATE:20190406
DTEND;VALUE=DATE:20190407
DTSTAMP:20260424T030716
CREATED:20190316T233056Z
LAST-MODIFIED:20190316T233056Z
UID:15383-1554508800-1554595199@carajas.org
SUMMARY:Cubs: British Legion Churrasco
DESCRIPTION:
URL:https://carajas.org/evento/cubs-gp-rolima-2-2/
ATTACH;FMTTYPE=image/png:https://carajas.org/wp-content/uploads/2015/09/eventos-default.png
END:VEVENT
BEGIN:VEVENT
DTSTART;VALUE=DATE:20190324
DTEND;VALUE=DATE:20190325
DTSTAMP:20260424T030716
CREATED:20190316T232005Z
LAST-MODIFIED:20190316T232005Z
UID:15380-1553385600-1553471999@carajas.org
SUMMARY:Jamboree Mundial: Encontro de Participantes Grupo de Viagem Carajás
DESCRIPTION:
URL:https://carajas.org/evento/jamboree-mundial-eua-2/
ATTACH;FMTTYPE=image/png:https://carajas.org/wp-content/uploads/2018/08/2019WSJLogo.png
END:VEVENT
BEGIN:VEVENT
DTSTART;VALUE=DATE:20181227
DTEND;VALUE=DATE:20190105
DTSTAMP:20260424T030716
CREATED:20180811T002206Z
LAST-MODIFIED:20180811T002442Z
UID:14096-1545868800-1546646399@carajas.org
SUMMARY:Rovers: Gilwell Expedition
DESCRIPTION:
URL:https://carajas.org/evento/rovers-gilwell-expedition/
ATTACH;FMTTYPE=image/png:https://carajas.org/wp-content/uploads/2018/08/Logo.png
END:VEVENT
BEGIN:VEVENT
DTSTART;VALUE=DATE:20181204
DTEND;VALUE=DATE:20181205
DTSTAMP:20260424T030716
CREATED:20180811T003025Z
LAST-MODIFIED:20180811T003025Z
UID:14100-1543881600-1543967999@carajas.org
SUMMARY:Scoutas: Última Reunião
DESCRIPTION:
URL:https://carajas.org/evento/scoutas-ultima-reuniao-2/
ATTACH;FMTTYPE=image/png:https://carajas.org/wp-content/uploads/2015/09/eventos-default.png
END:VEVENT
END:VCALENDAR